BEGIN:VCALENDAR
VERSION:2.0
PRODID:-//Ville d&#039;Etaples sur mer - ECPv6.15.13.1//NONSGML v1.0//EN
CALSCALE:GREGORIAN
METHOD:PUBLISH
X-WR-CALNAME:Ville d&#039;Etaples sur mer
X-ORIGINAL-URL:https://etaples-sur-mer.fr
X-WR-CALDESC:Évènements pour Ville d&#039;Etaples sur mer
REFRESH-INTERVAL;VALUE=DURATION:PT1H
X-Robots-Tag:noindex
X-PUBLISHED-TTL:PT1H
BEGIN:VTIMEZONE
TZID:Europe/Paris
BEGIN:DAYLIGHT
TZOFFSETFROM:+0100
TZOFFSETTO:+0200
TZNAME:CEST
DTSTART:20240331T010000
END:DAYLIGHT
BEGIN:STANDARD
TZOFFSETFROM:+0200
TZOFFSETTO:+0100
TZNAME:CET
DTSTART:20241027T010000
END:STANDARD
BEGIN:DAYLIGHT
TZOFFSETFROM:+0100
TZOFFSETTO:+0200
TZNAME:CEST
DTSTART:20250330T010000
END:DAYLIGHT
BEGIN:STANDARD
TZOFFSETFROM:+0200
TZOFFSETTO:+0100
TZNAME:CET
DTSTART:20251026T010000
END:STANDARD
BEGIN:DAYLIGHT
TZOFFSETFROM:+0100
TZOFFSETTO:+0200
TZNAME:CEST
DTSTART:20260329T010000
END:DAYLIGHT
BEGIN:STANDARD
TZOFFSETFROM:+0200
TZOFFSETTO:+0100
TZNAME:CET
DTSTART:20261025T010000
END:STANDARD
END:VTIMEZONE
BEGIN:VEVENT
DTSTART;TZID=Europe/Paris:20251008T140000
DTEND;TZID=Europe/Paris:20251008T170000
DTSTAMP:20260421T065258
CREATED:20250701T120235Z
LAST-MODIFIED:20250929T072741Z
UID:226469-1759932000-1759942800@etaples-sur-mer.fr
SUMMARY:Récré-action
DESCRIPTION:Par La Maison de la Petite Enfance Après-midi ludique en famille organisé par les acteurs parentalité du Montreuillois dans le cadre de la semaine de la parentalité (activités manuelles\, jeux en famille…) Gratuit – Ouvert à tous \nInfos : A.Pudlicki 03 21 09 41 60 \n\nEnvie de passer un bon moment en famille ?\n\nLes partenaires du Réseau Parentalité Entre Mer et Terres profitent du Mois de la Parentalité pour vous proposer de nombreuses animations pour toute la famille !\n\n\nOuvert à tous·tes avec des activités adaptées à tous les âges !\n\n\n\nAu programme :\n– Ateliers créatifs\n– Parcours motricité\n\n– Coin lecture\n– Jeux en famille\n– Quizz\n– Massage bébé\n– Temps d’échanges entre parents\n– Jeux sportifs : Boccia\, Sarbacane\, Molky\, Tir à l’arc\n\n\nEt beaucoup d’autres animations !\nCette journée est organisée grâce à eux : \n\nMaison de la petite enfance d’Etaples\nRelais petite enfance de la CA2BM\nRelais petite enfance de la Communauté de Communes du Haut-Pays-en-Montreuillois (CCHPM)\nCentre Social Le Grand H Hesdin\nCentre SocioCulturel Intercommunal d’Hucqueliers et environs (CSCI – Relais Petite Enfance les Lapinous)aa\nService d’Accompagnement et de soutien à la parentalité – Maison d’enfants à Caractère Social de Campagne-lès-Hesdin\nAssociation Liens et Actions des Jeunes\nProgramme de Réussite Éducative Etaples\nAntenne CAF d’Etaples\nAssociation Développement Social Urbain (DSU)\nCentre Social d’Etaples (La crèche à l’abordage)\nLa Maison des Parents Aidants\nLe département avec le service de PMI\nLe Service Enfance Jeunesse de la Ville de Berck \nL’APEI GAM avec le dispositif Attente active\, JAME et la plateforme de répit « Un temps pour soi »\nL’EPDEF avec le service accueil pour tous
URL:https://etaples-sur-mer.fr/evenement/recre-action/
LOCATION:Salle de la Corderie\, 155 rue de camiers\, etaples\, 62630\, France
CATEGORIES:Jeux
ATTACH;FMTTYPE=image/png:https://etaples-sur-mer.fr/wp-content/uploads/2025/07/Affiche-Recreaction-en-famille-2025-4-1-724x1024-1.png
END:VEVENT
END:VCALENDAR