BEGIN:VCALENDAR
VERSION:2.0
PRODID:-//Ville d&#039;Etaples sur mer - ECPv6.15.13.1//NONSGML v1.0//EN
CALSCALE:GREGORIAN
METHOD:PUBLISH
X-ORIGINAL-URL:https://etaples-sur-mer.fr
X-WR-CALDESC:Évènements pour Ville d&#039;Etaples sur mer
REFRESH-INTERVAL;VALUE=DURATION:PT1H
X-Robots-Tag:noindex
X-PUBLISHED-TTL:PT1H
BEGIN:VTIMEZONE
TZID:Europe/Paris
BEGIN:DAYLIGHT
TZOFFSETFROM:+0100
TZOFFSETTO:+0200
TZNAME:CEST
DTSTART:20230326T010000
END:DAYLIGHT
BEGIN:STANDARD
TZOFFSETFROM:+0200
TZOFFSETTO:+0100
TZNAME:CET
DTSTART:20231029T010000
END:STANDARD
BEGIN:DAYLIGHT
TZOFFSETFROM:+0100
TZOFFSETTO:+0200
TZNAME:CEST
DTSTART:20240331T010000
END:DAYLIGHT
BEGIN:STANDARD
TZOFFSETFROM:+0200
TZOFFSETTO:+0100
TZNAME:CET
DTSTART:20241027T010000
END:STANDARD
BEGIN:DAYLIGHT
TZOFFSETFROM:+0100
TZOFFSETTO:+0200
TZNAME:CEST
DTSTART:20250330T010000
END:DAYLIGHT
BEGIN:STANDARD
TZOFFSETFROM:+0200
TZOFFSETTO:+0100
TZNAME:CET
DTSTART:20251026T010000
END:STANDARD
END:VTIMEZONE
BEGIN:VEVENT
DTSTART;TZID=Europe/Paris:20240917T090000
DTEND;TZID=Europe/Paris:20240917T163000
DTSTAMP:20260422T033012
CREATED:20240619T135408Z
LAST-MODIFIED:20240619T135408Z
UID:199503-1726563600-1726590600@etaples-sur-mer.fr
SUMMARY:JOURNÉE DE L’INCLUSION SCOLAIRE
DESCRIPTION:Par l’Ecole Primaire Rombly \nMardi 17 septembre 2024 – de 9h à 16h30 – Stade Jean Bigot + Salle de Tennis \nJournée sportive pour les enfants de 2 à 12 ans pour apprendre à vivre ensemble et appréhender le handicap à travers des ateliers de sport adapté. \nInfos : N. Rosey – 09 74 92 46 48
URL:https://etaples-sur-mer.fr/evenement/journee-de-linclusion-scolaire-2/
LOCATION:Stade Jean Bigot\, rue des Oyats\, etaples\, 62630\, France
CATEGORIES:Jeunesse,Jeux,Sport
ATTACH;FMTTYPE=image/jpeg:https://etaples-sur-mer.fr/wp-content/uploads/2024/06/JOURNEE-DE-LINCLUSION-SCOLAIRE-scaled.jpg
END:VEVENT
END:VCALENDAR