BEGIN:VCALENDAR
VERSION:2.0
PRODID:-//Ville d&#039;Etaples sur mer - ECPv6.15.13.1//NONSGML v1.0//EN
CALSCALE:GREGORIAN
METHOD:PUBLISH
X-WR-CALNAME:Ville d&#039;Etaples sur mer
X-ORIGINAL-URL:https://etaples-sur-mer.fr
X-WR-CALDESC:Évènements pour Ville d&#039;Etaples sur mer
REFRESH-INTERVAL;VALUE=DURATION:PT1H
X-Robots-Tag:noindex
X-PUBLISHED-TTL:PT1H
BEGIN:VTIMEZONE
TZID:Europe/Paris
BEGIN:DAYLIGHT
TZOFFSETFROM:+0100
TZOFFSETTO:+0200
TZNAME:CEST
DTSTART:20230326T010000
END:DAYLIGHT
BEGIN:STANDARD
TZOFFSETFROM:+0200
TZOFFSETTO:+0100
TZNAME:CET
DTSTART:20231029T010000
END:STANDARD
BEGIN:DAYLIGHT
TZOFFSETFROM:+0100
TZOFFSETTO:+0200
TZNAME:CEST
DTSTART:20240331T010000
END:DAYLIGHT
BEGIN:STANDARD
TZOFFSETFROM:+0200
TZOFFSETTO:+0100
TZNAME:CET
DTSTART:20241027T010000
END:STANDARD
BEGIN:DAYLIGHT
TZOFFSETFROM:+0100
TZOFFSETTO:+0200
TZNAME:CEST
DTSTART:20250330T010000
END:DAYLIGHT
BEGIN:STANDARD
TZOFFSETFROM:+0200
TZOFFSETTO:+0100
TZNAME:CET
DTSTART:20251026T010000
END:STANDARD
END:VTIMEZONE
BEGIN:VEVENT
DTSTART;TZID=Europe/Paris:20240802T100000
DTEND;TZID=Europe/Paris:20240802T120000
DTSTAMP:20260422T051604
CREATED:20240612T065814Z
LAST-MODIFIED:20240612T065814Z
UID:198773-1722592800-1722600000@etaples-sur-mer.fr
SUMMARY:ANIMATION A L’ESPACE NUMÉRIQUE : ATELIER MINECRAFT
DESCRIPTION:Par le Point Cyb de la Médiathèque \nLes 2\,6\,9\, 13\, 16 et 20 août  de 10h à 11h45 \nInitiation à l’univers de Minecraft. \nGratuit (à partir de 10 ans) – sur réservations \nInfos : Médiathèque Municipale – 03 21 94 29 31
URL:https://etaples-sur-mer.fr/evenement/animation-a-lespace-numerique-atelier-minecraft-2/
LOCATION:Médiathèque\, 150 rue de Camiers\, etaples\, 62630\, France
CATEGORIES:Animations,Jeunesse,Jeux
ATTACH;FMTTYPE=image/png:https://etaples-sur-mer.fr/wp-content/uploads/2024/02/Minecraft.png
END:VEVENT
BEGIN:VEVENT
DTSTART;TZID=Europe/Paris:20240803T143000
DTEND;TZID=Europe/Paris:20240803T163000
DTSTAMP:20260422T051604
CREATED:20240612T072450Z
LAST-MODIFIED:20240704T080140Z
UID:198780-1722695400-1722702600@etaples-sur-mer.fr
SUMMARY:CHASSE AU TRÉSOR
DESCRIPTION:Par le service Evénementiel \nSamedi 3 août à 14h30 – Rendez-vous à l’Office Municipal de Tourisme \nPour le plaisir de tous\, petits et grands. Partez à l’aventure et découvrez autrement la commune à l’aide d’énigmes ludiques. Les détectives qui auront résolu le mystère seront récompensés. \nActivité gratuite\, sur réservation \nInscriptions sur place ou www.etaples-sur-mer.fr \nInfos : service  Événementiel  – 03 21 89 62 73
URL:https://etaples-sur-mer.fr/evenement/chasse-au-tresor-2/
LOCATION:Office de Tourisme
CATEGORIES:Animations,Art,balade,Culture,Jeux
ATTACH;FMTTYPE=image/jpeg:https://etaples-sur-mer.fr/wp-content/uploads/2024/06/Affiche-chasse-au-tresor-2024-web-scaled.jpg
ORGANIZER;CN="Service %C3%A9v%C3%A9nementiel":MAILTO:communication@etaples-sur-mer.net
END:VEVENT
BEGIN:VEVENT
DTSTART;TZID=Europe/Paris:20240807T100000
DTEND;TZID=Europe/Paris:20240807T120000
DTSTAMP:20260422T051604
CREATED:20240612T080714Z
LAST-MODIFIED:20240612T080714Z
UID:198802-1723024800-1723032000@etaples-sur-mer.fr
SUMMARY:ANIMATION À L’ESPACE NUMÉRIQUE : ATELIER SCRATCH
DESCRIPTION:Par le Point Cyb de la Médiathèque \nMercredi 7 août  de 10h à 11h45 \nInitiation aux bases du logiciel Scratch à partir de la création de petits jeux. \nGratuit ( à partir de 10 ans) – sur réservations \nInfos : Médiathèque Municipale – 03 21 94 29 31 \n 
URL:https://etaples-sur-mer.fr/evenement/animation-a-lespace-numerique-atelier-scratch-2/
LOCATION:Mediathèque municipale\, 150 Rue de Camiers\, Etaples\, 62630
CATEGORIES:Animations,Jeunesse,Jeux
ATTACH;FMTTYPE=image/jpeg:https://etaples-sur-mer.fr/wp-content/uploads/2024/02/Scratch.jpg
END:VEVENT
BEGIN:VEVENT
DTSTART;TZID=Europe/Paris:20240809T200000
DTEND;TZID=Europe/Paris:20240810T000000
DTSTAMP:20260422T051604
CREATED:20240619T062941Z
LAST-MODIFIED:20240722T101602Z
UID:199309-1723233600-1723248000@etaples-sur-mer.fr
SUMMARY:NUIT DU JEU
DESCRIPTION:Par le service Evénementiel \nVendredi 9 août de 20h à minuit – Hall de la Corderie \nLa nuit du jeu est une idée de sortie originale et conviviale où la bonne humeur\, le plaisir\, le partage se sont donnés rendez-vous le temps d’une soirée. C’est l’occasion de retrouver du plaisir en jouant entre amis. Vous y découvrirez une centaine de jeux de société simples et modernes qui devraient ravir petits et grands tout au long de la soirée. Lors de cette édition\, des petits tournois seront organisés avec des petites récompenses à la clé (Six qui surprend\, Qwirkle\, Kem’s) \nTarif : gratuit \nInfos : service Événementiel – 03 21 89 62 51
URL:https://etaples-sur-mer.fr/evenement/nuit-du-jeu-4/
LOCATION:Hall de la corderie\, Boulevard Bigot Descelers\, Etaples sur Mer\, 62630\, France
CATEGORIES:Animations,Jeux
ATTACH;FMTTYPE=image/png:https://etaples-sur-mer.fr/wp-content/uploads/2024/06/Affiche-nuit-du-jeu-Aout-1.png
ORGANIZER;CN="Service %C3%A9v%C3%A9nementiel":MAILTO:communication@etaples-sur-mer.net
END:VEVENT
END:VCALENDAR