BEGIN:VCALENDAR
VERSION:2.0
PRODID:-//Ville d&#039;Etaples sur mer - ECPv6.15.13.1//NONSGML v1.0//EN
CALSCALE:GREGORIAN
METHOD:PUBLISH
X-ORIGINAL-URL:https://etaples-sur-mer.fr
X-WR-CALDESC:Évènements pour Ville d&#039;Etaples sur mer
REFRESH-INTERVAL;VALUE=DURATION:PT1H
X-Robots-Tag:noindex
X-PUBLISHED-TTL:PT1H
BEGIN:VTIMEZONE
TZID:Europe/Paris
BEGIN:DAYLIGHT
TZOFFSETFROM:+0100
TZOFFSETTO:+0200
TZNAME:CEST
DTSTART:20230326T010000
END:DAYLIGHT
BEGIN:STANDARD
TZOFFSETFROM:+0200
TZOFFSETTO:+0100
TZNAME:CET
DTSTART:20231029T010000
END:STANDARD
BEGIN:DAYLIGHT
TZOFFSETFROM:+0100
TZOFFSETTO:+0200
TZNAME:CEST
DTSTART:20240331T010000
END:DAYLIGHT
BEGIN:STANDARD
TZOFFSETFROM:+0200
TZOFFSETTO:+0100
TZNAME:CET
DTSTART:20241027T010000
END:STANDARD
BEGIN:DAYLIGHT
TZOFFSETFROM:+0100
TZOFFSETTO:+0200
TZNAME:CEST
DTSTART:20250330T010000
END:DAYLIGHT
BEGIN:STANDARD
TZOFFSETFROM:+0200
TZOFFSETTO:+0100
TZNAME:CET
DTSTART:20251026T010000
END:STANDARD
END:VTIMEZONE
BEGIN:VEVENT
DTSTART;TZID=Europe/Paris:20240424T103000
DTEND;TZID=Europe/Paris:20240424T113000
DTSTAMP:20260422T121914
CREATED:20231221T130259Z
LAST-MODIFIED:20231221T130324Z
UID:187123-1713954600-1713958200@etaples-sur-mer.fr
SUMMARY:LES ATELIERS POUR LES P’TITS MATELOTS : « MON CARILLON EN COQUILLAGES »
DESCRIPTION:par Maréis\, animé par Lara \nmercredi 24 avril 2024 à 10h30 – Centre Maréis \nAteliers pour enfants encadrés par un médiateur de « Maréis ». La présence d’un parent est obligatoire pour les enfants jusqu’à 7 ans (facultatif au-delà). \nTarif : 6€/enfant – gratuit pour le parent (réservation en ligne) \nDurée environ 1h00 – 15 personnes maximum \nRenseignements : Maréis 03 21 09 04 00
URL:https://etaples-sur-mer.fr/evenement/les-ateliers-pour-les-ptits-matelots-mon-carillon-en-coquillages/
CATEGORIES:Jeunesse,Jeux
ATTACH;FMTTYPE=image/jpeg:https://etaples-sur-mer.fr/wp-content/uploads/2023/12/les-activites-pour-les-ptits-matelots-mareis-1-1.jpg
END:VEVENT
BEGIN:VEVENT
DTSTART;TZID=Europe/Paris:20240426T200000
DTEND;TZID=Europe/Paris:20240427T000000
DTSTAMP:20260422T121914
CREATED:20231221T132546Z
LAST-MODIFIED:20240411T062438Z
UID:187132-1714161600-1714176000@etaples-sur-mer.fr
SUMMARY:NUIT DU JEU
DESCRIPTION:par le service « Événementiel » \nvendredi 26 avril 2024 de 20h à minuit – Hall de la Corderie \nTarif : gratuit \nRenseignements : service « Événementiel » – 03 21 89 62 55
URL:https://etaples-sur-mer.fr/evenement/nuit-du-jeu/
LOCATION:Hall de la corderie\, Boulevard Bigot Descelers\, Etaples sur Mer\, 62630\, France
CATEGORIES:Jeux,Veillée
ATTACH;FMTTYPE=image/jpeg:https://etaples-sur-mer.fr/wp-content/uploads/2023/12/Affiche-nuit-du-jeu-Avril-2024-web-scaled.jpg
END:VEVENT
BEGIN:VEVENT
DTSTART;TZID=Europe/Paris:20240430T100000
DTEND;TZID=Europe/Paris:20240430T114500
DTSTAMP:20260422T121914
CREATED:20240207T104135Z
LAST-MODIFIED:20240207T104135Z
UID:188500-1714471200-1714477500@etaples-sur-mer.fr
SUMMARY:ATELIER MINECRAFT
DESCRIPTION:Par l’Espace Numérique \nMardi 30 avril de 10h à 11h45 – Médiathèque Municipale \nInitiation à l’univers de Minecraft. \nGratuit (à partir de 10 ans\, nombre de places limité\, sur réservation) \nInfos : Médiathèque Municipale – 03 21 94 29 31
URL:https://etaples-sur-mer.fr/evenement/atelier-minecraft-4/
LOCATION:Mediathèque municipale\, 150 Rue de Camiers\, Etaples\, 62630
CATEGORIES:Animations,Jeux
ATTACH;FMTTYPE=image/png:https://etaples-sur-mer.fr/wp-content/uploads/2024/02/Minecraft.png
END:VEVENT
END:VCALENDAR