BEGIN:VCALENDAR
VERSION:2.0
PRODID:-//Ville d&#039;Etaples sur mer - ECPv6.15.13.1//NONSGML v1.0//EN
CALSCALE:GREGORIAN
METHOD:PUBLISH
X-ORIGINAL-URL:https://etaples-sur-mer.fr
X-WR-CALDESC:Évènements pour Ville d&#039;Etaples sur mer
REFRESH-INTERVAL;VALUE=DURATION:PT1H
X-Robots-Tag:noindex
X-PUBLISHED-TTL:PT1H
BEGIN:VTIMEZONE
TZID:Europe/Paris
BEGIN:DAYLIGHT
TZOFFSETFROM:+0100
TZOFFSETTO:+0200
TZNAME:CEST
DTSTART:20230326T010000
END:DAYLIGHT
BEGIN:STANDARD
TZOFFSETFROM:+0200
TZOFFSETTO:+0100
TZNAME:CET
DTSTART:20231029T010000
END:STANDARD
BEGIN:DAYLIGHT
TZOFFSETFROM:+0100
TZOFFSETTO:+0200
TZNAME:CEST
DTSTART:20240331T010000
END:DAYLIGHT
BEGIN:STANDARD
TZOFFSETFROM:+0200
TZOFFSETTO:+0100
TZNAME:CET
DTSTART:20241027T010000
END:STANDARD
BEGIN:DAYLIGHT
TZOFFSETFROM:+0100
TZOFFSETTO:+0200
TZNAME:CEST
DTSTART:20250330T010000
END:DAYLIGHT
BEGIN:STANDARD
TZOFFSETFROM:+0200
TZOFFSETTO:+0100
TZNAME:CET
DTSTART:20251026T010000
END:STANDARD
END:VTIMEZONE
BEGIN:VEVENT
DTSTART;TZID=Europe/Paris:20240612T100000
DTEND;TZID=Europe/Paris:20240612T120000
DTSTAMP:20260422T214624
CREATED:20240529T075205Z
LAST-MODIFIED:20240529T075316Z
UID:197726-1718186400-1718193600@etaples-sur-mer.fr
SUMMARY:JOB DATING POUR L’APPRENTISSAGE
DESCRIPTION:Le lycée Jules Verne d’Étaples-sur-mer organise un job dating spécial CAP et Bac pro Menuisier Aluminium-Verre (MAV) en apprentissage\, le mercredi 12 juin de 10h à 12h au sein de leurs locaux. \nLe menuisier aluminium-verre assure la fabrication et la pose de portes\, fenêtres\, verrandas\, cloisons\, abris\, vitrages\, serres\, garde-corps\, rideaux métalliques\, volets\, store.. \nDes entreprises du secteur d’Hesdin\, Le Touquet\, Boulogne-sur-mer seront présentes\, vous pourrez échanger directement avec des recruteurs\, découvrir les opportunités de stages et d’apprentissages disponibles\, et de présenter votre projet. \nPour participer\, contacter Mme Sophie BELLET\, responsable du bureau des entreprises au 07 81 29 23 20 ou 03 21 89 54 54 \n 
URL:https://etaples-sur-mer.fr/evenement/job-dating-pour-lapprentissage/
LOCATION:lycee professionnel Jules Verne
CATEGORIES:emploi,Enseignement,Jeunesse
ATTACH;FMTTYPE=image/jpeg:https://etaples-sur-mer.fr/wp-content/uploads/2024/05/Affiche-Job-Dating-jules-verne-_page-0001.jpg
END:VEVENT
BEGIN:VEVENT
DTSTART;TZID=Europe/Paris:20240614T100000
DTEND;TZID=Europe/Paris:20240614T170000
DTSTAMP:20260422T214624
CREATED:20241125T154832Z
LAST-MODIFIED:20241125T154832Z
UID:212858-1718359200-1718384400@etaples-sur-mer.fr
SUMMARY:Fête du groupe scolaire de Jean Moulin
DESCRIPTION:cour de récréation de l’école \nDanses des enfants et kermesse \nInfos : M. Dewez – 03 21 94 72 37
URL:https://etaples-sur-mer.fr/evenement/fete-du-groupe-scolaire-de-jean-moulin/
LOCATION:école Jean Moulin\, avenue François Mitterrand\, etaples\, 62630\, France
CATEGORIES:Animations,danse,Enseignement,musique,Spectacle
ATTACH;FMTTYPE=image/jpeg:https://etaples-sur-mer.fr/wp-content/uploads/2024/11/fete-de-lecole-jean-moulin.jpg
END:VEVENT
BEGIN:VEVENT
DTSTART;TZID=Europe/Paris:20240621T100000
DTEND;TZID=Europe/Paris:20240621T163000
DTSTAMP:20260422T214624
CREATED:20241126T092021Z
LAST-MODIFIED:20241126T092021Z
UID:212976-1718964000-1718987400@etaples-sur-mer.fr
SUMMARY:Kermesse et fête de l’école de Rombly
DESCRIPTION:cour de l’école \nInfos : N. Rosey – 09 74 92 46 48
URL:https://etaples-sur-mer.fr/evenement/kermesse-et-fete-de-lecole-de-rombly/
LOCATION:école primaire de rombly\, avenue des Oyats\, etaples\, 62630\, France
CATEGORIES:Animations,danse,Enseignement,Jeunesse,musique,Spectacle
ATTACH;FMTTYPE=image/jpeg:https://etaples-sur-mer.fr/wp-content/uploads/2024/11/fete-de-lecole-jean-moulin-1.jpg
END:VEVENT
BEGIN:VEVENT
DTSTART;TZID=Europe/Paris:20240629T110000
DTEND;TZID=Europe/Paris:20240629T170000
DTSTAMP:20260422T214624
CREATED:20240506T130743Z
LAST-MODIFIED:20240506T130743Z
UID:195885-1719658800-1719680400@etaples-sur-mer.fr
SUMMARY:FÊTE DE L'ÉCOLE NOTRE DAME DE FOY
DESCRIPTION:Fête de l’école Notre Dame de Foy29 juin 2024à partir de 13h30dans la cour de l’école
URL:https://etaples-sur-mer.fr/evenement/fete-de-lecole-notre-dame-de-foy-2/
LOCATION:ecole notre-dame de foy\, 3 Avenue du Vieux Moulin\, Étaples\, Nord Pas de Calais\, 62630\, France
CATEGORIES:Animations,Associations,Culture,danse,Enseignement
ATTACH;FMTTYPE=image/jpeg:https://etaples-sur-mer.fr/wp-content/uploads/2019/12/kermesseballon.jpg
END:VEVENT
END:VCALENDAR