BEGIN:VCALENDAR
VERSION:2.0
PRODID:-//Ville d&#039;Etaples sur mer - ECPv6.15.13.1//NONSGML v1.0//EN
CALSCALE:GREGORIAN
METHOD:PUBLISH
X-WR-CALNAME:Ville d&#039;Etaples sur mer
X-ORIGINAL-URL:https://etaples-sur-mer.fr
X-WR-CALDESC:Évènements pour Ville d&#039;Etaples sur mer
REFRESH-INTERVAL;VALUE=DURATION:PT1H
X-Robots-Tag:noindex
X-PUBLISHED-TTL:PT1H
BEGIN:VTIMEZONE
TZID:Europe/Paris
BEGIN:DAYLIGHT
TZOFFSETFROM:+0100
TZOFFSETTO:+0200
TZNAME:CEST
DTSTART:20240331T010000
END:DAYLIGHT
BEGIN:STANDARD
TZOFFSETFROM:+0200
TZOFFSETTO:+0100
TZNAME:CET
DTSTART:20241027T010000
END:STANDARD
BEGIN:DAYLIGHT
TZOFFSETFROM:+0100
TZOFFSETTO:+0200
TZNAME:CEST
DTSTART:20250330T010000
END:DAYLIGHT
BEGIN:STANDARD
TZOFFSETFROM:+0200
TZOFFSETTO:+0100
TZNAME:CET
DTSTART:20251026T010000
END:STANDARD
BEGIN:DAYLIGHT
TZOFFSETFROM:+0100
TZOFFSETTO:+0200
TZNAME:CEST
DTSTART:20260329T010000
END:DAYLIGHT
BEGIN:STANDARD
TZOFFSETFROM:+0200
TZOFFSETTO:+0100
TZNAME:CET
DTSTART:20261025T010000
END:STANDARD
END:VTIMEZONE
BEGIN:VEVENT
DTSTART;TZID=Europe/Paris:20250503T203000
DTEND;TZID=Europe/Paris:20250503T230000
DTSTAMP:20260421T173100
CREATED:20241127T145829Z
LAST-MODIFIED:20250403T141746Z
UID:213262-1746304200-1746313200@etaples-sur-mer.fr
SUMMARY:REPORTÉ - Spectacle cabaret
DESCRIPTION:Par l’association «Rev’elles danses» \nLe samedi 3 mai – salle de la Corderie \nSpectacle cabaret par les élèves de l’association (danse orientale\, dancehall\, cabaret\, ladyglam\, Laadyglam et pole) et de ses invités \nTarif : adultes  10 € et enfants 5 € \nInfos : K. Butel  – 06 81 30 71 87
URL:https://etaples-sur-mer.fr/evenement/spectacle-cabaret-2/
LOCATION:Salle de la Corderie
CATEGORIES:Animations,danse,musique,Repas,Spectacle
ATTACH;FMTTYPE=image/jpeg:https://etaples-sur-mer.fr/wp-content/uploads/2024/11/cabaret.jpg
END:VEVENT
END:VCALENDAR