BEGIN:VCALENDAR
VERSION:2.0
PRODID:-//Ville d&#039;Etaples sur mer - ECPv6.15.13.1//NONSGML v1.0//EN
CALSCALE:GREGORIAN
METHOD:PUBLISH
X-ORIGINAL-URL:https://etaples-sur-mer.fr
X-WR-CALDESC:Évènements pour Ville d&#039;Etaples sur mer
REFRESH-INTERVAL;VALUE=DURATION:PT1H
X-Robots-Tag:noindex
X-PUBLISHED-TTL:PT1H
BEGIN:VTIMEZONE
TZID:Europe/Paris
BEGIN:DAYLIGHT
TZOFFSETFROM:+0100
TZOFFSETTO:+0200
TZNAME:CEST
DTSTART:20230326T010000
END:DAYLIGHT
BEGIN:STANDARD
TZOFFSETFROM:+0200
TZOFFSETTO:+0100
TZNAME:CET
DTSTART:20231029T010000
END:STANDARD
BEGIN:DAYLIGHT
TZOFFSETFROM:+0100
TZOFFSETTO:+0200
TZNAME:CEST
DTSTART:20240331T010000
END:DAYLIGHT
BEGIN:STANDARD
TZOFFSETFROM:+0200
TZOFFSETTO:+0100
TZNAME:CET
DTSTART:20241027T010000
END:STANDARD
BEGIN:DAYLIGHT
TZOFFSETFROM:+0100
TZOFFSETTO:+0200
TZNAME:CEST
DTSTART:20250330T010000
END:DAYLIGHT
BEGIN:STANDARD
TZOFFSETFROM:+0200
TZOFFSETTO:+0100
TZNAME:CET
DTSTART:20251026T010000
END:STANDARD
END:VTIMEZONE
BEGIN:VEVENT
DTSTART;TZID=Europe/Paris:20240601T110000
DTEND;TZID=Europe/Paris:20240601T160000
DTSTAMP:20260422T134735
CREATED:20240530T081645Z
LAST-MODIFIED:20240530T081645Z
UID:197810-1717239600-1717257600@etaples-sur-mer.fr
SUMMARY:FÊTE DES VOISINS AU QUARTIER RENAISSANCE
DESCRIPTION:FÊTE DES VOISINSSamedi 1er Juin 2024au Quartier Renaissancede 11h à 16h au City Stade Jean Moulin\nGRAUIT ET OUVERT À TOUS\nAu programme :Grand barbecue à 12hStructures gonflables\, animation ludique et musicale\, jeux de plein air\nPop corn et Barbe à papa\nper le Centre Social Caf et ALAJen partenariat avec la ville d’Etaples-sur-mer\, Pas de Calais HAbitat\, Flandre Opale Habitat\, le service Politique de la ville et l’association Renouveau Pour Tous\nRenseignements :CENTRE SOCIAL CAF03 21 94 62 00
URL:https://etaples-sur-mer.fr/evenement/fete-des-voisins-au-quartier-renaissance/
LOCATION:city stade Jean Moulin\, rue du Bois\, Etaples\, 62630\, France
CATEGORIES:Animations,Associations,cuisine,Culture,danse,Jeunesse
ATTACH;FMTTYPE=image/jpeg:https://etaples-sur-mer.fr/wp-content/uploads/2024/05/fete-des-voisins-2024-RVB-scaled.jpg
ORGANIZER;CN="Centre Social CAF":MAILTO:jean-jacques.smeeckaert@cafpas-de-calais.cnafmail.fr 
END:VEVENT
END:VCALENDAR