BEGIN:VCALENDAR
VERSION:2.0
PRODID:-//Ville d&#039;Etaples sur mer - ECPv6.15.13.1//NONSGML v1.0//EN
CALSCALE:GREGORIAN
METHOD:PUBLISH
X-ORIGINAL-URL:https://etaples-sur-mer.fr
X-WR-CALDESC:Évènements pour Ville d&#039;Etaples sur mer
REFRESH-INTERVAL;VALUE=DURATION:PT1H
X-Robots-Tag:noindex
X-PUBLISHED-TTL:PT1H
BEGIN:VTIMEZONE
TZID:Europe/Paris
BEGIN:DAYLIGHT
TZOFFSETFROM:+0100
TZOFFSETTO:+0200
TZNAME:CEST
DTSTART:20250330T010000
END:DAYLIGHT
BEGIN:STANDARD
TZOFFSETFROM:+0200
TZOFFSETTO:+0100
TZNAME:CET
DTSTART:20251026T010000
END:STANDARD
BEGIN:DAYLIGHT
TZOFFSETFROM:+0100
TZOFFSETTO:+0200
TZNAME:CEST
DTSTART:20260329T010000
END:DAYLIGHT
BEGIN:STANDARD
TZOFFSETFROM:+0200
TZOFFSETTO:+0100
TZNAME:CET
DTSTART:20261025T010000
END:STANDARD
BEGIN:DAYLIGHT
TZOFFSETFROM:+0100
TZOFFSETTO:+0200
TZNAME:CEST
DTSTART:20270328T010000
END:DAYLIGHT
BEGIN:STANDARD
TZOFFSETFROM:+0200
TZOFFSETTO:+0100
TZNAME:CET
DTSTART:20271031T010000
END:STANDARD
END:VTIMEZONE
BEGIN:VEVENT
DTSTART;TZID=Europe/Paris:20260606T100000
DTEND;TZID=Europe/Paris:20260606T113000
DTSTAMP:20260422T191550
CREATED:20260126T091127Z
LAST-MODIFIED:20260126T125012Z
UID:239655-1780740000-1780745400@etaples-sur-mer.fr
SUMMARY:Atelier culinaire / Goujonnettes de poisson blanc\, mayonnaise dérivée et méli mélo de jeunes pousses
DESCRIPTION:Samedi 6 juin à 10 h – cuisine pédagogique de Maréis \nChef : Olivier Brulin \nCourts ouverts à tous\, dans la limite des places disponibles (10 personnes max.) Prévoir un tablier. Durée 1h30. Tarif 30 € / pers. \nInfos : Maréis.fr ou 03 21 09 04 00
URL:https://etaples-sur-mer.fr/evenement/atelier-culinaire-goujonnettes-de-poisson-blanc-mayonnaise-derivee-et-meli-melo-de-jeunes-pousses/
LOCATION:Cuisine pédagogique du Centre  » Maréis « 
CATEGORIES:cuisine
ATTACH;FMTTYPE=image/jpeg:https://etaples-sur-mer.fr/wp-content/uploads/2019/04/Août-atelier-culinaire-maréis.jpg
END:VEVENT
END:VCALENDAR