BEGIN:VCALENDAR
VERSION:2.0
PRODID:-//Ville d&#039;Etaples sur mer - ECPv6.15.13.1//NONSGML v1.0//EN
CALSCALE:GREGORIAN
METHOD:PUBLISH
X-ORIGINAL-URL:https://etaples-sur-mer.fr
X-WR-CALDESC:Évènements pour Ville d&#039;Etaples sur mer
REFRESH-INTERVAL;VALUE=DURATION:PT1H
X-Robots-Tag:noindex
X-PUBLISHED-TTL:PT1H
BEGIN:VTIMEZONE
TZID:Europe/Paris
BEGIN:DAYLIGHT
TZOFFSETFROM:+0100
TZOFFSETTO:+0200
TZNAME:CEST
DTSTART:20240331T010000
END:DAYLIGHT
BEGIN:STANDARD
TZOFFSETFROM:+0200
TZOFFSETTO:+0100
TZNAME:CET
DTSTART:20241027T010000
END:STANDARD
BEGIN:DAYLIGHT
TZOFFSETFROM:+0100
TZOFFSETTO:+0200
TZNAME:CEST
DTSTART:20250330T010000
END:DAYLIGHT
BEGIN:STANDARD
TZOFFSETFROM:+0200
TZOFFSETTO:+0100
TZNAME:CET
DTSTART:20251026T010000
END:STANDARD
BEGIN:DAYLIGHT
TZOFFSETFROM:+0100
TZOFFSETTO:+0200
TZNAME:CEST
DTSTART:20260329T010000
END:DAYLIGHT
BEGIN:STANDARD
TZOFFSETFROM:+0200
TZOFFSETTO:+0100
TZNAME:CET
DTSTART:20261025T010000
END:STANDARD
END:VTIMEZONE
BEGIN:VEVENT
DTSTART;TZID=Europe/Paris:20251220T100000
DTEND;TZID=Europe/Paris:20251220T113000
DTSTAMP:20260422T222347
CREATED:20250729T130647Z
LAST-MODIFIED:20251217T131847Z
UID:229955-1766224800-1766230200@etaples-sur-mer.fr
SUMMARY:Atelier culinaire : Menu à thème Noël
DESCRIPTION:Samedi 20 décembre à 10 h – cuisine pédagogique de Maréis\nChef : Cyrille Dimanche\nCourts ouverts à tous\, dans la limite des places disponibles (10 personnes mac. Prévoir un tablier.\nDurée 1h30. Tarif 50 € / pers.\nInfos : Maréis.fr ou 03 21 09 04 00
URL:https://etaples-sur-mer.fr/evenement/atelier-culinaire-menu-a-theme-noel/
LOCATION:Cuisine pédagogique du Centre  » Maréis « 
CATEGORIES:cuisine,Noël
ATTACH;FMTTYPE=image/jpeg:https://etaples-sur-mer.fr/wp-content/uploads/2024/06/COURONNE-DE-NOEL-DU-MATELOT.jpg
END:VEVENT
END:VCALENDAR