BEGIN:VCALENDAR
VERSION:2.0
PRODID:-//Ville d&#039;Etaples sur mer - ECPv6.15.13.1//NONSGML v1.0//EN
CALSCALE:GREGORIAN
METHOD:PUBLISH
X-WR-CALNAME:Ville d&#039;Etaples sur mer
X-ORIGINAL-URL:https://etaples-sur-mer.fr
X-WR-CALDESC:Évènements pour Ville d&#039;Etaples sur mer
REFRESH-INTERVAL;VALUE=DURATION:PT1H
X-Robots-Tag:noindex
X-PUBLISHED-TTL:PT1H
BEGIN:VTIMEZONE
TZID:Europe/Paris
BEGIN:DAYLIGHT
TZOFFSETFROM:+0100
TZOFFSETTO:+0200
TZNAME:CEST
DTSTART:20230326T010000
END:DAYLIGHT
BEGIN:STANDARD
TZOFFSETFROM:+0200
TZOFFSETTO:+0100
TZNAME:CET
DTSTART:20231029T010000
END:STANDARD
BEGIN:DAYLIGHT
TZOFFSETFROM:+0100
TZOFFSETTO:+0200
TZNAME:CEST
DTSTART:20240331T010000
END:DAYLIGHT
BEGIN:STANDARD
TZOFFSETFROM:+0200
TZOFFSETTO:+0100
TZNAME:CET
DTSTART:20241027T010000
END:STANDARD
BEGIN:DAYLIGHT
TZOFFSETFROM:+0100
TZOFFSETTO:+0200
TZNAME:CEST
DTSTART:20250330T010000
END:DAYLIGHT
BEGIN:STANDARD
TZOFFSETFROM:+0200
TZOFFSETTO:+0100
TZNAME:CET
DTSTART:20251026T010000
END:STANDARD
END:VTIMEZONE
BEGIN:VEVENT
DTSTART;TZID=Europe/Paris:20241130T100000
DTEND;TZID=Europe/Paris:20241130T113000
DTSTAMP:20260423T184628
CREATED:20240619T145638Z
LAST-MODIFIED:20240821T090607Z
UID:199556-1732960800-1732966200@etaples-sur-mer.fr
SUMMARY:ATELIER CULINAIRE
DESCRIPTION:ATELIER CULINAIRE \nSamedi 30 novembre à 10 h – Cuisine pédagogique de Maréis \nRillette de hareng aux agrumes \nAnimé par un chef professionnel. Tous niveaux. Prévoir tablier & récipient. Durée 1h30 \nInfos :  mareis.fr ou 03 21 0904 00
URL:https://etaples-sur-mer.fr/evenement/atelier-culinaire-28/
LOCATION:cuisine pedagogique de mareis
CATEGORIES:Animations,cuisine
ATTACH;FMTTYPE=image/jpeg:https://etaples-sur-mer.fr/wp-content/uploads/2024/06/atelier-culinaire-Mareis-Etaples-3-©-Pas-de-Calais-Tourisme.jpg
END:VEVENT
END:VCALENDAR