BEGIN:VCALENDAR
VERSION:2.0
PRODID:-//Ville d&#039;Etaples sur mer - ECPv6.15.13.1//NONSGML v1.0//EN
CALSCALE:GREGORIAN
METHOD:PUBLISH
X-WR-CALNAME:Ville d&#039;Etaples sur mer
X-ORIGINAL-URL:https://etaples-sur-mer.fr
X-WR-CALDESC:Évènements pour Ville d&#039;Etaples sur mer
REFRESH-INTERVAL;VALUE=DURATION:PT1H
X-Robots-Tag:noindex
X-PUBLISHED-TTL:PT1H
BEGIN:VTIMEZONE
TZID:Europe/Paris
BEGIN:DAYLIGHT
TZOFFSETFROM:+0100
TZOFFSETTO:+0200
TZNAME:CEST
DTSTART:20230326T010000
END:DAYLIGHT
BEGIN:STANDARD
TZOFFSETFROM:+0200
TZOFFSETTO:+0100
TZNAME:CET
DTSTART:20231029T010000
END:STANDARD
BEGIN:DAYLIGHT
TZOFFSETFROM:+0100
TZOFFSETTO:+0200
TZNAME:CEST
DTSTART:20240331T010000
END:DAYLIGHT
BEGIN:STANDARD
TZOFFSETFROM:+0200
TZOFFSETTO:+0100
TZNAME:CET
DTSTART:20241027T010000
END:STANDARD
BEGIN:DAYLIGHT
TZOFFSETFROM:+0100
TZOFFSETTO:+0200
TZNAME:CEST
DTSTART:20250330T010000
END:DAYLIGHT
BEGIN:STANDARD
TZOFFSETFROM:+0200
TZOFFSETTO:+0100
TZNAME:CET
DTSTART:20251026T010000
END:STANDARD
END:VTIMEZONE
BEGIN:VEVENT
DTSTART;TZID=Europe/Paris:20240420T100000
DTEND;TZID=Europe/Paris:20240426T120000
DTSTAMP:20260424T054431
CREATED:20231221T094701Z
LAST-MODIFIED:20231221T094701Z
UID:187108-1713607200-1714132800@etaples-sur-mer.fr
SUMMARY:ATELIER CULINAIRE : FILET DE VIVE POCHÉ GINGEMBRE-CITRONELLE\, CROUSTILLANT DE RATE DU TOUQUET
DESCRIPTION:par Maréis\, animé par Cyrille DIMANCHE \nsamedi 20 avril 2024 à 10h00 – Cuisine pédagogique de Maréis \nDes rendez-vous réguliers pour sublimer les produits de la mer locaux. Atelier animé par un Chef professionnel (Tous niveaux\, prévoir tablier et récipients) \nLa cuisine de Maréis vous accueille pour préparer une recette à base de produits de la mer avec un chef local. Partagez votre passion dans une ambiance conviviale et emportez votre préparation pour une dégustation en solo ou en duo ! \nLes cours sont ouverts à tous\, dans la limite des places disponibles. \nTarif : 25€/personne – Durée 1h30/2h – 10 participants maximum (réservation en ligne) \nRenseignements : Maréis 03 21 09 04 00 ou www.mareis.fr
URL:https://etaples-sur-mer.fr/evenement/atelier-culinaire-filet-de-vive-poche-gingembre-citronelle-croustillant-de-rate-du-touquet/
LOCATION:cuisine pedagogique de mareis
CATEGORIES:cuisine,Mareis
ATTACH;FMTTYPE=image/jpeg:https://etaples-sur-mer.fr/wp-content/uploads/2021/09/cours-de-cuisine.jpg
END:VEVENT
END:VCALENDAR