BEGIN:VCALENDAR
VERSION:2.0
PRODID:-//Ville d&#039;Etaples sur mer - ECPv6.15.13.1//NONSGML v1.0//EN
CALSCALE:GREGORIAN
METHOD:PUBLISH
X-ORIGINAL-URL:https://etaples-sur-mer.fr
X-WR-CALDESC:Évènements pour Ville d&#039;Etaples sur mer
REFRESH-INTERVAL;VALUE=DURATION:PT1H
X-Robots-Tag:noindex
X-PUBLISHED-TTL:PT1H
BEGIN:VTIMEZONE
TZID:Europe/Paris
BEGIN:DAYLIGHT
TZOFFSETFROM:+0100
TZOFFSETTO:+0200
TZNAME:CEST
DTSTART:20240331T010000
END:DAYLIGHT
BEGIN:STANDARD
TZOFFSETFROM:+0200
TZOFFSETTO:+0100
TZNAME:CET
DTSTART:20241027T010000
END:STANDARD
BEGIN:DAYLIGHT
TZOFFSETFROM:+0100
TZOFFSETTO:+0200
TZNAME:CEST
DTSTART:20250330T010000
END:DAYLIGHT
BEGIN:STANDARD
TZOFFSETFROM:+0200
TZOFFSETTO:+0100
TZNAME:CET
DTSTART:20251026T010000
END:STANDARD
BEGIN:DAYLIGHT
TZOFFSETFROM:+0100
TZOFFSETTO:+0200
TZNAME:CEST
DTSTART:20260329T010000
END:DAYLIGHT
BEGIN:STANDARD
TZOFFSETFROM:+0200
TZOFFSETTO:+0100
TZNAME:CET
DTSTART:20261025T010000
END:STANDARD
END:VTIMEZONE
BEGIN:VEVENT
DTSTART;TZID=Europe/Paris:20250801T190000
DTEND;TZID=Europe/Paris:20250801T220000
DTSTAMP:20260423T031415
CREATED:20250630T130609Z
LAST-MODIFIED:20250728T085743Z
UID:226272-1754074800-1754085600@etaples-sur-mer.fr
SUMMARY:SOIRÉE COUSCOUS
DESCRIPTION:Soirée couscous avec le groupe « Les Scopitones »\nVendredi 1 Août à partir de 19h\nGuinguette de la Baie\nRéservation obligatoire\, 1 part de couscous et un verre au choix 20€\nRenseignements : V. Manga – 06 25 20 18 05
URL:https://etaples-sur-mer.fr/evenement/soiree-couscous/
LOCATION:La Guinguette de la Baie\, 34 Boulevard Bigot Descelers\, Etaples-sur-mer\, 62630\, France
CATEGORIES:Animations,cuisine
ATTACH;FMTTYPE=image/jpeg:https://etaples-sur-mer.fr/wp-content/uploads/2025/06/Modele-affiche-Guinguette-faire-une-copie-avant-modification-4.jpg
END:VEVENT
BEGIN:VEVENT
DTSTART;TZID=Europe/Paris:20250805T090000
DTEND;TZID=Europe/Paris:20250805T120000
DTSTAMP:20260423T031415
CREATED:20250612T085812Z
LAST-MODIFIED:20250613T121506Z
UID:224520-1754384400-1754395200@etaples-sur-mer.fr
SUMMARY:SORTIE : LES PLANTES COMESTIBLES DU BORD DE MER
DESCRIPTION:Par le service « Nature » \nMardi 5 août à 9h00 – Maison de la Faune et de la Flore Clos St-Victor\, Bd Bigot-Descelers \nSalicorne\, Obione faux pourpier\, Aster maritime … De nombreuses plantes de prés salés font le régal des papilles. Après une partie sur le terrain\, consacrée à la reconnaissance de ces plantes et à une petite récolte\, retour au Clos Saint-Victor pour une dégustation. \nTarif 12€ – prévoir chaussures ne craignant pas la boue\, contenants pour la récolte\, couteau. \nInfos et inscriptions obligatoires : Service Nature 03.21.84.13.93 (8h30 – 16h30) / 06.66.25.03.72 \n 
URL:https://etaples-sur-mer.fr/evenement/les-plantes-comestibles-du-bord-de-mer-4/
LOCATION:– Maison de la Faune et de la Flore Clos St-Victor
CATEGORIES:cuisine
ATTACH;FMTTYPE=image/jpeg:https://etaples-sur-mer.fr/wp-content/uploads/2025/06/503931146_739019608500501_7968169089335597606_n-2.jpg
END:VEVENT
BEGIN:VEVENT
DTSTART;TZID=Europe/Paris:20250809T100000
DTEND;TZID=Europe/Paris:20250809T230000
DTSTAMP:20260423T031415
CREATED:20250613T140801Z
LAST-MODIFIED:20250613T140801Z
UID:224728-1754733600-1754780400@etaples-sur-mer.fr
SUMMARY:ATELIER CULINAIRE / CEVICHE DE BARS AUX AGRUMES
DESCRIPTION:Chef : Alexis Leprêtre \nCourts ouverts à tous\, dans la limite des places disponibles (10 personnes mac. Prévoir un tablier. Durée 1h30. Tarif 25 € / pers. \nInfos : Maréis.fr ou 03 21 09 04 00
URL:https://etaples-sur-mer.fr/evenement/atelier-culinaire-ceviche-de-bars-aux-agrumes/
LOCATION:cuisine pedagogique de mareis
CATEGORIES:cuisine,Enseignement,Repas
ATTACH;FMTTYPE=image/jpeg:https://etaples-sur-mer.fr/wp-content/uploads/2025/06/503158886_738995861836209_4246621768900566121_n-1.jpg
END:VEVENT
BEGIN:VEVENT
DTSTART;TZID=Europe/Paris:20250809T183000
DTEND;TZID=Europe/Paris:20250809T223000
DTSTAMP:20260423T031415
CREATED:20250630T133244Z
LAST-MODIFIED:20250728T090242Z
UID:226287-1754764200-1754778600@etaples-sur-mer.fr
SUMMARY:SOIRÉE COCHON GRILLÉ
DESCRIPTION:Soirée cochon grillé et scène ouverte\nGuinguette de la Baie – Samedi 9 Août à partir de 18h30\nRéservation obligatoire\nRenseignements : V. Manga – 06 25 20 18 05
URL:https://etaples-sur-mer.fr/evenement/soiree-cochon-grille/
LOCATION:La Guinguette de la Baie\, 34 Boulevard Bigot Descelers\, Etaples-sur-mer\, 62630\, France
CATEGORIES:Animations,cuisine
ATTACH;FMTTYPE=image/jpeg:https://etaples-sur-mer.fr/wp-content/uploads/2025/06/Modele-affiche-Guinguette-faire-une-copie-avant-modification-5.jpg
END:VEVENT
BEGIN:VEVENT
DTSTART;VALUE=DATE:20250817
DTEND;VALUE=DATE:20250818
DTSTAMP:20260423T031415
CREATED:20250701T083225Z
LAST-MODIFIED:20250701T083225Z
UID:226404-1755388800-1755475199@etaples-sur-mer.fr
SUMMARY:Moules Frites des Bons Z'Enfants
DESCRIPTION:Moules Frites des Bons Z’EnfantsDimanche 17 Août – A partir de 12h – Guinguette de la Baie / Dans le cadre de la Cérémonie Religieuse au Calvaire des Marins.Renseignements : 06 34 11 75 89
URL:https://etaples-sur-mer.fr/evenement/moules-frites-des-bons-zenfants/
LOCATION:La Guinguette de la Baie\, 34 Boulevard Bigot Descelers\, Etaples-sur-mer\, 62630\, France
CATEGORIES:Animations,cuisine
ATTACH;FMTTYPE=image/jpeg:https://etaples-sur-mer.fr/wp-content/uploads/2025/07/Modele-affiche-Guinguette-faire-une-copie-avant-modification-1-1.jpg
END:VEVENT
BEGIN:VEVENT
DTSTART;TZID=Europe/Paris:20250824T183000
DTEND;TZID=Europe/Paris:20250824T200000
DTSTAMP:20260423T031415
CREATED:20250701T084824Z
LAST-MODIFIED:20250701T084824Z
UID:226410-1756060200-1756065600@etaples-sur-mer.fr
SUMMARY:Dégustation Mets & Vins
DESCRIPTION:Dégustation Mets & Vins avec Opal’ & des Vins\nGuinguette de la Baie – Dimanche 24 Août à partir de 18h30\nEntrée libre\nRenseignements : Victoria Manga – 06 25 20 18 05
URL:https://etaples-sur-mer.fr/evenement/degustation-mets-vins/
LOCATION:La Guinguette de la Baie\, 34 Boulevard Bigot Descelers\, Etaples-sur-mer\, 62630\, France
CATEGORIES:Animations,cuisine
ATTACH;FMTTYPE=image/jpeg:https://etaples-sur-mer.fr/wp-content/uploads/2025/07/Modele-affiche-Guinguette-faire-une-copie-avant-modification-3-1.jpg
END:VEVENT
END:VCALENDAR