BEGIN:VCALENDAR
VERSION:2.0
PRODID:-//Ville d&#039;Etaples sur mer - ECPv6.15.13.1//NONSGML v1.0//EN
CALSCALE:GREGORIAN
METHOD:PUBLISH
X-ORIGINAL-URL:https://etaples-sur-mer.fr
X-WR-CALDESC:Évènements pour Ville d&#039;Etaples sur mer
REFRESH-INTERVAL;VALUE=DURATION:PT1H
X-Robots-Tag:noindex
X-PUBLISHED-TTL:PT1H
BEGIN:VTIMEZONE
TZID:Europe/Paris
BEGIN:DAYLIGHT
TZOFFSETFROM:+0100
TZOFFSETTO:+0200
TZNAME:CEST
DTSTART:20230326T010000
END:DAYLIGHT
BEGIN:STANDARD
TZOFFSETFROM:+0200
TZOFFSETTO:+0100
TZNAME:CET
DTSTART:20231029T010000
END:STANDARD
BEGIN:DAYLIGHT
TZOFFSETFROM:+0100
TZOFFSETTO:+0200
TZNAME:CEST
DTSTART:20240331T010000
END:DAYLIGHT
BEGIN:STANDARD
TZOFFSETFROM:+0200
TZOFFSETTO:+0100
TZNAME:CET
DTSTART:20241027T010000
END:STANDARD
BEGIN:DAYLIGHT
TZOFFSETFROM:+0100
TZOFFSETTO:+0200
TZNAME:CEST
DTSTART:20250330T010000
END:DAYLIGHT
BEGIN:STANDARD
TZOFFSETFROM:+0200
TZOFFSETTO:+0100
TZNAME:CET
DTSTART:20251026T010000
END:STANDARD
END:VTIMEZONE
BEGIN:VEVENT
DTSTART;TZID=Europe/Paris:20240601T100000
DTEND;TZID=Europe/Paris:20240601T120000
DTSTAMP:20260424T004349
CREATED:20240205T103159Z
LAST-MODIFIED:20240205T103159Z
UID:188304-1717236000-1717243200@etaples-sur-mer.fr
SUMMARY:ATELIER CULINAIRE : TRUITE FUMÉE\, MOUSSE AUX DEUX CITRONS ET FRAISES PLEINE-TERRE
DESCRIPTION:par Maréis\, animé par Régis \nsamedi 1er juin 2024 à 10h00 – Cuisine pédagogique de Maréis \nDes rendez-vous réguliers pour sublimer les produits de la mer locaux. Atelier animé par un Chef professionnel (Tous niveaux\, prévoir tablier et récipients) \nLa cuisine de Maréis vous accueille pour préparer une recette à base de produits de la mer avec un chef local. Partagez votre passion dans une ambiance conviviale et emportez votre préparation pour une dégustation en solo ou en duo ! \nLes cours sont ouverts à tous\, dans la limite des places disponibles. \nTarif : 25€/personne – Durée 1h30/2h – 10 participants maximum (réservation en ligne) \nRenseignements : Maréis 03 21 09 04 00 ou www.mareis.fr
URL:https://etaples-sur-mer.fr/evenement/atelier-culinaire-truite-fumee-mousse-aux-deux-citrons-et-fraises-pleine-terre/
LOCATION:cuisine pedagogique de mareis
CATEGORIES:Animations,cuisine,Mareis
ATTACH;FMTTYPE=image/jpeg:https://etaples-sur-mer.fr/wp-content/uploads/2018/01/ateliercuisinemareis17032017007.jpg
END:VEVENT
BEGIN:VEVENT
DTSTART;TZID=Europe/Paris:20240601T110000
DTEND;TZID=Europe/Paris:20240601T160000
DTSTAMP:20260424T004349
CREATED:20240530T081645Z
LAST-MODIFIED:20240530T081645Z
UID:197810-1717239600-1717257600@etaples-sur-mer.fr
SUMMARY:FÊTE DES VOISINS AU QUARTIER RENAISSANCE
DESCRIPTION:FÊTE DES VOISINSSamedi 1er Juin 2024au Quartier Renaissancede 11h à 16h au City Stade Jean Moulin\nGRAUIT ET OUVERT À TOUS\nAu programme :Grand barbecue à 12hStructures gonflables\, animation ludique et musicale\, jeux de plein air\nPop corn et Barbe à papa\nper le Centre Social Caf et ALAJen partenariat avec la ville d’Etaples-sur-mer\, Pas de Calais HAbitat\, Flandre Opale Habitat\, le service Politique de la ville et l’association Renouveau Pour Tous\nRenseignements :CENTRE SOCIAL CAF03 21 94 62 00
URL:https://etaples-sur-mer.fr/evenement/fete-des-voisins-au-quartier-renaissance/
LOCATION:city stade Jean Moulin\, rue du Bois\, Etaples\, 62630\, France
CATEGORIES:Animations,Associations,cuisine,Culture,danse,Jeunesse
ATTACH;FMTTYPE=image/jpeg:https://etaples-sur-mer.fr/wp-content/uploads/2024/05/fete-des-voisins-2024-RVB-scaled.jpg
ORGANIZER;CN="Centre Social CAF":MAILTO:jean-jacques.smeeckaert@cafpas-de-calais.cnafmail.fr 
END:VEVENT
BEGIN:VEVENT
DTSTART;TZID=Europe/Paris:20240615T100000
DTEND;TZID=Europe/Paris:20240615T120000
DTSTAMP:20260424T004349
CREATED:20240205T125205Z
LAST-MODIFIED:20240205T125205Z
UID:188329-1718445600-1718452800@etaples-sur-mer.fr
SUMMARY:ATELIER CULINAIRE : PRESSÉ DE ROUGET\, OLIVE ET AROMATE
DESCRIPTION:par Maréis\, animé par Cyrille DIMANCHE \nsamedi 15 juin 2024 à 10h00 – Cuisine pédagogique de Maréis \nDes rendez-vous réguliers pour sublimer les produits de la mer locaux. Atelier animé par un Chef professionnel (Tous niveaux\, prévoir tablier et récipients) \nLa cuisine de Maréis vous accueille pour préparer une recette à base de produits de la mer avec un chef local. Partagez votre passion dans une ambiance conviviale et emportez votre préparation pour une dégustation en solo ou en duo ! \nLes cours sont ouverts à tous\, dans la limite des places disponibles. \nTarif : 25€/personne – Durée 1h30/2h – 10 participants maximum (réservation en ligne) \nRenseignements : Maréis 03 21 09 04 00 ou www.mareis.fr
URL:https://etaples-sur-mer.fr/evenement/atelier-culinaire-presse-de-rouget-olive-et-aromate/
LOCATION:cuisine pedagogique de mareis
CATEGORIES:Animations,cuisine,Mareis
ATTACH;FMTTYPE=image/jpeg:https://etaples-sur-mer.fr/wp-content/uploads/2018/01/ateliercuisinemareis17032017007.jpg
END:VEVENT
BEGIN:VEVENT
DTSTART;TZID=Europe/Paris:20240629T100000
DTEND;TZID=Europe/Paris:20240629T120000
DTSTAMP:20260424T004349
CREATED:20240205T145805Z
LAST-MODIFIED:20240205T145805Z
UID:188363-1719655200-1719662400@etaples-sur-mer.fr
SUMMARY:ATELIER CULINAIRE : COUTEAUX EN PERSILLADES
DESCRIPTION:par Maréis\, animé par Alexis LEPRETRE \nsamedi 29 juin 2024 à 10h00 – Cuisine pédagogique de Maréis \nDes rendez-vous réguliers pour sublimer les produits de la mer locaux. Atelier animé par un Chef professionnel (Tous niveaux\, prévoir tablier et récipients) \nLa cuisine de Maréis vous accueille pour préparer une recette à base de produits de la mer avec un chef local. Partagez votre passion dans une ambiance conviviale et emportez votre préparation pour une dégustation en solo ou en duo ! \nLes cours sont ouverts à tous\, dans la limite des places disponibles. \nTarif : 25€/personne – Durée 1h30/2h – 10 participants maximum (réservation en ligne) \nRenseignements : Maréis 03 21 09 04 00 ou www.mareis.fr
URL:https://etaples-sur-mer.fr/evenement/atelier-culinaire-couteaux-en-persillades/
LOCATION:cuisine pedagogique de mareis
CATEGORIES:cuisine,Mareis
ATTACH;FMTTYPE=image/jpeg:https://etaples-sur-mer.fr/wp-content/uploads/2018/01/ateliercuisinemareis17032017007.jpg
END:VEVENT
END:VCALENDAR