BEGIN:VCALENDAR
VERSION:2.0
PRODID:-//Ville d&#039;Etaples sur mer - ECPv6.15.13.1//NONSGML v1.0//EN
CALSCALE:GREGORIAN
METHOD:PUBLISH
X-WR-CALNAME:Ville d&#039;Etaples sur mer
X-ORIGINAL-URL:https://etaples-sur-mer.fr
X-WR-CALDESC:Évènements pour Ville d&#039;Etaples sur mer
REFRESH-INTERVAL;VALUE=DURATION:PT1H
X-Robots-Tag:noindex
X-PUBLISHED-TTL:PT1H
BEGIN:VTIMEZONE
TZID:Europe/Paris
BEGIN:DAYLIGHT
TZOFFSETFROM:+0100
TZOFFSETTO:+0200
TZNAME:CEST
DTSTART:20240331T010000
END:DAYLIGHT
BEGIN:STANDARD
TZOFFSETFROM:+0200
TZOFFSETTO:+0100
TZNAME:CET
DTSTART:20241027T010000
END:STANDARD
BEGIN:DAYLIGHT
TZOFFSETFROM:+0100
TZOFFSETTO:+0200
TZNAME:CEST
DTSTART:20250330T010000
END:DAYLIGHT
BEGIN:STANDARD
TZOFFSETFROM:+0200
TZOFFSETTO:+0100
TZNAME:CET
DTSTART:20251026T010000
END:STANDARD
BEGIN:DAYLIGHT
TZOFFSETFROM:+0100
TZOFFSETTO:+0200
TZNAME:CEST
DTSTART:20260329T010000
END:DAYLIGHT
BEGIN:STANDARD
TZOFFSETFROM:+0200
TZOFFSETTO:+0100
TZNAME:CET
DTSTART:20261025T010000
END:STANDARD
BEGIN:DAYLIGHT
TZOFFSETFROM:+0100
TZOFFSETTO:+0200
TZNAME:CEST
DTSTART:20270328T010000
END:DAYLIGHT
BEGIN:STANDARD
TZOFFSETFROM:+0200
TZOFFSETTO:+0100
TZNAME:CET
DTSTART:20271031T010000
END:STANDARD
END:VTIMEZONE
BEGIN:VEVENT
DTSTART;TZID=Europe/Paris:20250915T080000
DTEND;TZID=Europe/Paris:20260315T170000
DTSTAMP:20260424T203843
CREATED:20250923T065559Z
LAST-MODIFIED:20250923T065649Z
UID:233326-1757923200-1773594000@etaples-sur-mer.fr
SUMMARY:PRIX LITTÉRAIRE THÉRÈSE RENAUX
DESCRIPTION:Contes\, fables\, essais\, poésies\, récits\, slam\, chansons\, dialogues\, lettres\, éloges \nConcours ouvert à toutes formes courtes écrites de fiction \nDeux catégories : Jeunesse (primaires et collèges)\, adultes \n1er Prix : 300€*\n2ème Prix : 200€*\n3ème Prix : 100€* \n*en bons d’achats \nInfos\, règlement : Passions Culture 06 61 15 48 11 – philippe.floure@sfr.fr\npassioncultureetaples.wordpress.com / médiathèques / commerces …. \n  \n 
URL:https://etaples-sur-mer.fr/evenement/prix-litteraire-therese-renaux/
CATEGORIES:Art,Associations,Culture
ATTACH;FMTTYPE=image/jpeg:https://etaples-sur-mer.fr/wp-content/uploads/2025/09/Prix-Therese-Renaux-Affiche-VD-4.jpg
END:VEVENT
BEGIN:VEVENT
DTSTART;TZID=Europe/Paris:20251203T100000
DTEND;TZID=Europe/Paris:20260106T170000
DTSTAMP:20260424T203843
CREATED:20251120T103133Z
LAST-MODIFIED:20251120T103133Z
UID:236300-1764756000-1767718800@etaples-sur-mer.fr
SUMMARY:EXPO PHOTOS "REVERIES D'ICARE"
DESCRIPTION:BIENTÔT À LA MÉDIATHÈQUE : « RÊVERIES D’ICARE » \nDu 3 décembre au 6 janvier 2026 à la Médiathèque Marie-Madeleine Gauffeny\, Frédéric Evrard nous emmène sur les plages et sentiers côtiers de notre région à travers son objectif. \nDans « Rêveries d’Icare »\, il nous fait découvrir les oiseaux migrateurs qui visitent notre région\, mais aussi les spectacles de la nature : couchers de soleil\, levers de lune… \nUne exposition qui invite à observer\, rêver et apprécier la beauté de notre région. \nEntrée libre\nRENSEIGNEMENTS : 03 21 94 29 31
URL:https://etaples-sur-mer.fr/evenement/expo-photos-reveries-dicare/
LOCATION:Médiathèque Marie-Madeleine Gauffeny
CATEGORIES:Art,Culture,Exposition,médiathèque
ATTACH;FMTTYPE=image/jpeg:https://etaples-sur-mer.fr/wp-content/uploads/2025/11/affiche-expo-photo-Frederic-Evrard-RVB-scaled.jpg
END:VEVENT
BEGIN:VEVENT
DTSTART;TZID=Europe/Paris:20251229T133000
DTEND;TZID=Europe/Paris:20251229T170000
DTSTAMP:20260424T203843
CREATED:20250915T121302Z
LAST-MODIFIED:20250915T122027Z
UID:232133-1767015000-1767027600@etaples-sur-mer.fr
SUMMARY:ATELIER SCRAPBOOKING
DESCRIPTION:Oublier le stress avec le scrapbooking\n\nLe scrapbooking est une activité créative et amusante. Il permet de jouer avec les couleurs\, les textures\, les motifs\, les papiers… pour créer des œuvres personnelles et originales.‌Venez découvrir ou redécouvrir cet art créatif qu’est le scrapbooking\, sous la houlette de Martine Lardé\, passionnée par cette discipline artistique. Tous niveaux. Les ateliers sont indépendants les uns des autres. Matériel fourni. Infos et inscription obligatoire ( places limitées) : Passions Culture: 06 61 15 48 11.
URL:https://etaples-sur-mer.fr/evenement/atelier-scrapbooking-7-2/
LOCATION:Salle Abbé Delattre\, Boulevard de l'impératrice\, etaples\, 62630\, France
CATEGORIES:Art,Associations
ATTACH;FMTTYPE=image/jpeg:https://etaples-sur-mer.fr/wp-content/uploads/2025/08/Scrap-affiche-septembre-octobre-2025-VD3.jpg
END:VEVENT
END:VCALENDAR