BEGIN:VCALENDAR
VERSION:2.0
PRODID:-//Ville d&#039;Etaples sur mer - ECPv6.15.13.1//NONSGML v1.0//EN
CALSCALE:GREGORIAN
METHOD:PUBLISH
X-WR-CALNAME:Ville d&#039;Etaples sur mer
X-ORIGINAL-URL:https://etaples-sur-mer.fr
X-WR-CALDESC:Évènements pour Ville d&#039;Etaples sur mer
REFRESH-INTERVAL;VALUE=DURATION:PT1H
X-Robots-Tag:noindex
X-PUBLISHED-TTL:PT1H
BEGIN:VTIMEZONE
TZID:Europe/Paris
BEGIN:DAYLIGHT
TZOFFSETFROM:+0100
TZOFFSETTO:+0200
TZNAME:CEST
DTSTART:20240331T010000
END:DAYLIGHT
BEGIN:STANDARD
TZOFFSETFROM:+0200
TZOFFSETTO:+0100
TZNAME:CET
DTSTART:20241027T010000
END:STANDARD
BEGIN:DAYLIGHT
TZOFFSETFROM:+0100
TZOFFSETTO:+0200
TZNAME:CEST
DTSTART:20250330T010000
END:DAYLIGHT
BEGIN:STANDARD
TZOFFSETFROM:+0200
TZOFFSETTO:+0100
TZNAME:CET
DTSTART:20251026T010000
END:STANDARD
BEGIN:DAYLIGHT
TZOFFSETFROM:+0100
TZOFFSETTO:+0200
TZNAME:CEST
DTSTART:20260329T010000
END:DAYLIGHT
BEGIN:STANDARD
TZOFFSETFROM:+0200
TZOFFSETTO:+0100
TZNAME:CET
DTSTART:20261025T010000
END:STANDARD
END:VTIMEZONE
BEGIN:VEVENT
DTSTART;TZID=Europe/Paris:20250208T093000
DTEND;TZID=Europe/Paris:20250208T110000
DTSTAMP:20260425T132431
CREATED:20241122T083325Z
LAST-MODIFIED:20241122T083325Z
UID:212439-1739007000-1739012400@etaples-sur-mer.fr
SUMMARY:Atelier construction de nichoirs
DESCRIPTION:Par le service nature\nSamedi 8 février à 9h30 – Clos Saint-Victor\nÀ l’aube du printemps\, il est temps de construire et d’installer les nichoirs qui accueilleront les futures couvées.\nTarif : 12 € / nichoir. Inscriptions obligatoires. Nombre de places limité. Durée : 1h30\nInfos : service nature – 03 21 84 13 93
URL:https://etaples-sur-mer.fr/evenement/atelier-construction-de-nichoirs/
LOCATION:Clos St Victor
CATEGORIES:Animations,Art,Nature
ATTACH;FMTTYPE=image/jpeg:https://etaples-sur-mer.fr/wp-content/uploads/2024/11/Pose-de-nichoirs-a-cavernicoles_rond-scaled-1.jpg
END:VEVENT
END:VCALENDAR