BEGIN:VCALENDAR
VERSION:2.0
PRODID:-//Ville d&#039;Etaples sur mer - ECPv6.15.13.1//NONSGML v1.0//EN
CALSCALE:GREGORIAN
METHOD:PUBLISH
X-ORIGINAL-URL:https://etaples-sur-mer.fr
X-WR-CALDESC:Évènements pour Ville d&#039;Etaples sur mer
REFRESH-INTERVAL;VALUE=DURATION:PT1H
X-Robots-Tag:noindex
X-PUBLISHED-TTL:PT1H
BEGIN:VTIMEZONE
TZID:Europe/Paris
BEGIN:DAYLIGHT
TZOFFSETFROM:+0100
TZOFFSETTO:+0200
TZNAME:CEST
DTSTART:20230326T010000
END:DAYLIGHT
BEGIN:STANDARD
TZOFFSETFROM:+0200
TZOFFSETTO:+0100
TZNAME:CET
DTSTART:20231029T010000
END:STANDARD
BEGIN:DAYLIGHT
TZOFFSETFROM:+0100
TZOFFSETTO:+0200
TZNAME:CEST
DTSTART:20240331T010000
END:DAYLIGHT
BEGIN:STANDARD
TZOFFSETFROM:+0200
TZOFFSETTO:+0100
TZNAME:CET
DTSTART:20241027T010000
END:STANDARD
BEGIN:DAYLIGHT
TZOFFSETFROM:+0100
TZOFFSETTO:+0200
TZNAME:CEST
DTSTART:20250330T010000
END:DAYLIGHT
BEGIN:STANDARD
TZOFFSETFROM:+0200
TZOFFSETTO:+0100
TZNAME:CET
DTSTART:20251026T010000
END:STANDARD
END:VTIMEZONE
BEGIN:VEVENT
DTSTART;TZID=Europe/Paris:20240917T180000
DTEND;TZID=Europe/Paris:20240917T190000
DTSTAMP:20260425T211204
CREATED:20240619T135125Z
LAST-MODIFIED:20240821T100821Z
UID:199496-1726596000-1726599600@etaples-sur-mer.fr
SUMMARY:ATELIER REPAIR CAFÉ
DESCRIPTION:  \nPar l’Association « Trecustel » \nMardi 17 septembre de 18h à 19h – Salle Abbé Delattre \nSi vous vous sentez une âme de bricoleur\, si vous avez le sens du système D…  Saisissez votre tournevis\, votre huile de coude et rendez-vous les 1ers et 3èmes mardis du mois à partir de 18 h. \nInfos : M. Senechal – 06 07 06 31 76
URL:https://etaples-sur-mer.fr/evenement/atelier-repair-cafe-9/
LOCATION:Salle Abbé Delattre\, Boulevard de l'impératrice\, etaples\, 62630\, France
CATEGORIES:Art,Associations
ATTACH;FMTTYPE=image/png:https://etaples-sur-mer.fr/wp-content/uploads/2024/08/ATELIER-REPAIR-CAFE-Etaples-e1670493895229.png
END:VEVENT
END:VCALENDAR