BEGIN:VCALENDAR
VERSION:2.0
PRODID:-//Ville d&#039;Etaples sur mer - ECPv6.15.13.1//NONSGML v1.0//EN
CALSCALE:GREGORIAN
METHOD:PUBLISH
X-ORIGINAL-URL:https://etaples-sur-mer.fr
X-WR-CALDESC:Évènements pour Ville d&#039;Etaples sur mer
REFRESH-INTERVAL;VALUE=DURATION:PT1H
X-Robots-Tag:noindex
X-PUBLISHED-TTL:PT1H
BEGIN:VTIMEZONE
TZID:Europe/Paris
BEGIN:DAYLIGHT
TZOFFSETFROM:+0100
TZOFFSETTO:+0200
TZNAME:CEST
DTSTART:20230326T010000
END:DAYLIGHT
BEGIN:STANDARD
TZOFFSETFROM:+0200
TZOFFSETTO:+0100
TZNAME:CET
DTSTART:20231029T010000
END:STANDARD
BEGIN:DAYLIGHT
TZOFFSETFROM:+0100
TZOFFSETTO:+0200
TZNAME:CEST
DTSTART:20240331T010000
END:DAYLIGHT
BEGIN:STANDARD
TZOFFSETFROM:+0200
TZOFFSETTO:+0100
TZNAME:CET
DTSTART:20241027T010000
END:STANDARD
BEGIN:DAYLIGHT
TZOFFSETFROM:+0100
TZOFFSETTO:+0200
TZNAME:CEST
DTSTART:20250330T010000
END:DAYLIGHT
BEGIN:STANDARD
TZOFFSETFROM:+0200
TZOFFSETTO:+0100
TZNAME:CET
DTSTART:20251026T010000
END:STANDARD
END:VTIMEZONE
BEGIN:VEVENT
DTSTART;VALUE=DATE:20240615
DTEND;VALUE=DATE:20240617
DTSTAMP:20260426T013733
CREATED:20240205T105635Z
LAST-MODIFIED:20240606T080048Z
UID:188317-1718409600-1718582399@etaples-sur-mer.fr
SUMMARY:EXPOSITION DE L’ATELIER SCRAPBOOKING FACILE par Martine Lardé
DESCRIPTION:par l’association « Passions Culture » \nsamedi 15 et dimanche 16 juin 2024 Salle de l’Abbé Delattre \nGratuit (sur réservation) \nRenseignements : Philippe Floure 06 61 15 48 11 \n\n		\n		\n			\n				\n			\n			\n		\n\n 
URL:https://etaples-sur-mer.fr/evenement/exposition-de-latelier-scrapbooking-facile-par-martine-larde/
LOCATION:Salle Abbé Delattre\, Boulevard de l'impératrice\, etaples\, 62630\, France
CATEGORIES:Art,Associations,Exposition
ATTACH;FMTTYPE=image/jpeg:https://etaples-sur-mer.fr/wp-content/uploads/2024/02/447306421_482076584194806_1872711140107890855_n.jpg
END:VEVENT
BEGIN:VEVENT
DTSTART;TZID=Europe/Paris:20240615T100000
DTEND;TZID=Europe/Paris:20240616T170000
DTSTAMP:20260426T013733
CREATED:20240603T122909Z
LAST-MODIFIED:20240603T122909Z
UID:198155-1718445600-1718557200@etaples-sur-mer.fr
SUMMARY:EXPOSITION DÉCOUVERTE DU SCRAPBOOKING
DESCRIPTION:avec Martine Lardé et son atelier15 et 16 juin 2024salle de l’Abbé Delattre\, boulevard de l’Impératrice – ETAPLES-SUR-MERSamedi 15 : 10h-12h et de 15h -18hvernissage à 11h30Dimanche 16 : 10h-12h et de 15h-17hinfos et inscription : 06 61 15 48 11Découvrez aussi : l’univers et les secrets des Mangas avec Pascale SenseyAtelier à 15h (sur inscription)La forge du Geek avec GermainAtelier de fabrication de jeux plateaux à 16 heuressur inscription (5€)ENTRÉE LIBREP.A.F. (participation volontaire aux frais)
URL:https://etaples-sur-mer.fr/evenement/exposition-decouverte-du-scrapbooking/
LOCATION:Salle Abbé Delattre\, Boulevard de l'impératrice\, etaples\, 62630\, France
CATEGORIES:Art,Associations,Culture,Exposition
ATTACH;FMTTYPE=image/jpeg:https://etaples-sur-mer.fr/wp-content/uploads/2024/06/Expo-Scrapbooking-Mai-2024-affiche-imprimeurVD-2.jpg
END:VEVENT
END:VCALENDAR