BEGIN:VCALENDAR
VERSION:2.0
PRODID:-//Ville d&#039;Etaples sur mer - ECPv6.15.13.1//NONSGML v1.0//EN
CALSCALE:GREGORIAN
METHOD:PUBLISH
X-WR-CALNAME:Ville d&#039;Etaples sur mer
X-ORIGINAL-URL:https://etaples-sur-mer.fr
X-WR-CALDESC:Évènements pour Ville d&#039;Etaples sur mer
REFRESH-INTERVAL;VALUE=DURATION:PT1H
X-Robots-Tag:noindex
X-PUBLISHED-TTL:PT1H
BEGIN:VTIMEZONE
TZID:Europe/Paris
BEGIN:DAYLIGHT
TZOFFSETFROM:+0100
TZOFFSETTO:+0200
TZNAME:CEST
DTSTART:20230326T010000
END:DAYLIGHT
BEGIN:STANDARD
TZOFFSETFROM:+0200
TZOFFSETTO:+0100
TZNAME:CET
DTSTART:20231029T010000
END:STANDARD
BEGIN:DAYLIGHT
TZOFFSETFROM:+0100
TZOFFSETTO:+0200
TZNAME:CEST
DTSTART:20240331T010000
END:DAYLIGHT
BEGIN:STANDARD
TZOFFSETFROM:+0200
TZOFFSETTO:+0100
TZNAME:CET
DTSTART:20241027T010000
END:STANDARD
BEGIN:DAYLIGHT
TZOFFSETFROM:+0100
TZOFFSETTO:+0200
TZNAME:CEST
DTSTART:20250330T010000
END:DAYLIGHT
BEGIN:STANDARD
TZOFFSETFROM:+0200
TZOFFSETTO:+0100
TZNAME:CET
DTSTART:20251026T010000
END:STANDARD
END:VTIMEZONE
BEGIN:VEVENT
DTSTART;TZID=Europe/Paris:20240513T143000
DTEND;TZID=Europe/Paris:20240513T170000
DTSTAMP:20260426T025246
CREATED:20240205T084546Z
LAST-MODIFIED:20240205T084546Z
UID:188250-1715610600-1715619600@etaples-sur-mer.fr
SUMMARY:« LE SCRAPBOOKING FACILE »
DESCRIPTION:Initiation aux techniques de scrapbooking par Martine Lardé \npar l’association « Passions Culture » \nlundi 13 mai de 14h30 à 17h00 – Salle de l’Abbé Delattre \ntarif : 5 €/séance – 3 séances gratuites pour chaque adhérent \nRenseignements : Philippe Floure 06 61 15 48 11
URL:https://etaples-sur-mer.fr/evenement/le-scrapbooking-facile-10/
LOCATION:Salle de la Corderie
CATEGORIES:Animations,Art,Associations
ATTACH;FMTTYPE=image/jpeg:https://etaples-sur-mer.fr/wp-content/uploads/2024/02/Scrapbooking.jpg
END:VEVENT
END:VCALENDAR