BEGIN:VCALENDAR
VERSION:2.0
PRODID:-//Ville d&#039;Etaples sur mer - ECPv6.15.13.1//NONSGML v1.0//EN
CALSCALE:GREGORIAN
METHOD:PUBLISH
X-ORIGINAL-URL:https://etaples-sur-mer.fr
X-WR-CALDESC:Évènements pour Ville d&#039;Etaples sur mer
REFRESH-INTERVAL;VALUE=DURATION:PT1H
X-Robots-Tag:noindex
X-PUBLISHED-TTL:PT1H
BEGIN:VTIMEZONE
TZID:Europe/Paris
BEGIN:DAYLIGHT
TZOFFSETFROM:+0100
TZOFFSETTO:+0200
TZNAME:CEST
DTSTART:20240331T010000
END:DAYLIGHT
BEGIN:STANDARD
TZOFFSETFROM:+0200
TZOFFSETTO:+0100
TZNAME:CET
DTSTART:20241027T010000
END:STANDARD
BEGIN:DAYLIGHT
TZOFFSETFROM:+0100
TZOFFSETTO:+0200
TZNAME:CEST
DTSTART:20250330T010000
END:DAYLIGHT
BEGIN:STANDARD
TZOFFSETFROM:+0200
TZOFFSETTO:+0100
TZNAME:CET
DTSTART:20251026T010000
END:STANDARD
BEGIN:DAYLIGHT
TZOFFSETFROM:+0100
TZOFFSETTO:+0200
TZNAME:CEST
DTSTART:20260329T010000
END:DAYLIGHT
BEGIN:STANDARD
TZOFFSETFROM:+0200
TZOFFSETTO:+0100
TZNAME:CET
DTSTART:20261025T010000
END:STANDARD
BEGIN:DAYLIGHT
TZOFFSETFROM:+0100
TZOFFSETTO:+0200
TZNAME:CEST
DTSTART:20270328T010000
END:DAYLIGHT
BEGIN:STANDARD
TZOFFSETFROM:+0200
TZOFFSETTO:+0100
TZNAME:CET
DTSTART:20271031T010000
END:STANDARD
END:VTIMEZONE
BEGIN:VEVENT
DTSTART;TZID=Europe/Paris:20250901T140000
DTEND;TZID=Europe/Paris:20250901T160000
DTSTAMP:20260425T005145
CREATED:20250819T083752Z
LAST-MODIFIED:20250819T083752Z
UID:231198-1756735200-1756742400@etaples-sur-mer.fr
SUMMARY:ATELIER SCRAPBOOKING
DESCRIPTION:Oublier le stress avec le scrapbooking\n\nLe scrapbooking est une activité créative et amusante. Il permet de jouer avec les couleurs\, les textures\, les motifs\, les papiers… pour créer des œuvres personnelles et originales.‌Venez découvrir ou redécouvrir cet art créatif qu’est le scrapbooking\, sous la houlette de Martine Lardé\, passionnée par cette discipline artistique. Tous niveaux. Les ateliers sont indépendants les uns des autres. Matériel fourni. Infos et inscription obligatoire ( places limitées) : Passions Culture: 06 61 15 48 11.
URL:https://etaples-sur-mer.fr/evenement/atelier-scrapbooking-3/
LOCATION:Salle Abbé Delattre\, Boulevard de l'impératrice\, etaples\, 62630\, France
CATEGORIES:Art,Associations
ATTACH;FMTTYPE=image/jpeg:https://etaples-sur-mer.fr/wp-content/uploads/2025/08/Scrap-affiche-septembre-octobre-2025-VD3.jpg
END:VEVENT
BEGIN:VEVENT
DTSTART;TZID=Europe/Paris:20250908T140000
DTEND;TZID=Europe/Paris:20250908T160000
DTSTAMP:20260425T005145
CREATED:20250819T083752Z
LAST-MODIFIED:20250819T083831Z
UID:231201-1757340000-1757347200@etaples-sur-mer.fr
SUMMARY:ATELIER SCRAPBOOKING
DESCRIPTION:Oublier le stress avec le scrapbooking\n\nLe scrapbooking est une activité créative et amusante. Il permet de jouer avec les couleurs\, les textures\, les motifs\, les papiers… pour créer des œuvres personnelles et originales.‌Venez découvrir ou redécouvrir cet art créatif qu’est le scrapbooking\, sous la houlette de Martine Lardé\, passionnée par cette discipline artistique. Tous niveaux. Les ateliers sont indépendants les uns des autres. Matériel fourni. Infos et inscription obligatoire ( places limitées) : Passions Culture: 06 61 15 48 11.
URL:https://etaples-sur-mer.fr/evenement/atelier-scrapbooking-3-2/
LOCATION:Salle Abbé Delattre\, Boulevard de l'impératrice\, etaples\, 62630\, France
CATEGORIES:Art,Associations
ATTACH;FMTTYPE=image/jpeg:https://etaples-sur-mer.fr/wp-content/uploads/2025/08/Scrap-affiche-septembre-octobre-2025-VD3.jpg
END:VEVENT
BEGIN:VEVENT
DTSTART;TZID=Europe/Paris:20250915T080000
DTEND;TZID=Europe/Paris:20260315T170000
DTSTAMP:20260425T005145
CREATED:20250923T065559Z
LAST-MODIFIED:20250923T065649Z
UID:233326-1757923200-1773594000@etaples-sur-mer.fr
SUMMARY:PRIX LITTÉRAIRE THÉRÈSE RENAUX
DESCRIPTION:Contes\, fables\, essais\, poésies\, récits\, slam\, chansons\, dialogues\, lettres\, éloges \nConcours ouvert à toutes formes courtes écrites de fiction \nDeux catégories : Jeunesse (primaires et collèges)\, adultes \n1er Prix : 300€*\n2ème Prix : 200€*\n3ème Prix : 100€* \n*en bons d’achats \nInfos\, règlement : Passions Culture 06 61 15 48 11 – philippe.floure@sfr.fr\npassioncultureetaples.wordpress.com / médiathèques / commerces …. \n  \n 
URL:https://etaples-sur-mer.fr/evenement/prix-litteraire-therese-renaux/
CATEGORIES:Art,Associations,Culture
ATTACH;FMTTYPE=image/jpeg:https://etaples-sur-mer.fr/wp-content/uploads/2025/09/Prix-Therese-Renaux-Affiche-VD-4.jpg
END:VEVENT
BEGIN:VEVENT
DTSTART;TZID=Europe/Paris:20250916T183000
DTEND;TZID=Europe/Paris:20250916T200000
DTSTAMP:20260425T005145
CREATED:20250818T091945Z
LAST-MODIFIED:20250825T141916Z
UID:230797-1758047400-1758052800@etaples-sur-mer.fr
SUMMARY:RENCONTRE MUSICALE AVEC JEAN-JACQUES LAMOUR
DESCRIPTION:Par la médiathèque municipale \nLe mardi 16 septembre à 18h30 à la médiathèque\, venez rencontrer Jean-Jacques Lamour\, chanteur et guitariste confirmé étaplois\, qui a sorti son album intitulé « Confidence » le 27 août 2025. \nDepuis une trentaine d’années\, Jean-Jacques chante seul ou avec des amis de longue date. Ses influences musicales en ce qui concerne la chanson française sont d’abord des artistes comme Georges Brassens ou Maxime Le Forestier avec lesquels il a débuté l’apprentissage du chant et de la guitare. Puis ensuite des auteurs compositeurs interprètes tels que Nicolas Peyrac\, Jean-Jacques Goldman\, Francis Cabrel ou les Beatles vont devenir une source d’inspiration. \nLors de cette rencontre\, vous pourrez échanger avec l’artiste sur ses inspirations\, son parcours\, ses expériences\, et découvrir certains de ses morceaux. \nEntrée libre. \nRENSEIGNEMENTS : Médiathèque Marie Madeleine Gauffeny – 03.21.94.29.31 \nRenseignements : 03 21 94 29 31
URL:https://etaples-sur-mer.fr/evenement/rencontremusicale-avec-jean-jacques-lamour/
LOCATION:Médiathèque Marie-Madeleine Gauffeny
CATEGORIES:Animations,Art,Culture
ATTACH;FMTTYPE=image/jpeg:https://etaples-sur-mer.fr/wp-content/uploads/2025/08/Affiche-rencontre-avec-JJ-Lamour-web-scaled.jpg
END:VEVENT
BEGIN:VEVENT
DTSTART;TZID=Europe/Paris:20250929T140000
DTEND;TZID=Europe/Paris:20250929T160000
DTSTAMP:20260425T005145
CREATED:20250819T083752Z
LAST-MODIFIED:20250819T083855Z
UID:231203-1759154400-1759161600@etaples-sur-mer.fr
SUMMARY:ATELIER SCRAPBOOKING
DESCRIPTION:Oublier le stress avec le scrapbooking\n\nLe scrapbooking est une activité créative et amusante. Il permet de jouer avec les couleurs\, les textures\, les motifs\, les papiers… pour créer des œuvres personnelles et originales.‌Venez découvrir ou redécouvrir cet art créatif qu’est le scrapbooking\, sous la houlette de Martine Lardé\, passionnée par cette discipline artistique. Tous niveaux. Les ateliers sont indépendants les uns des autres. Matériel fourni. Infos et inscription obligatoire ( places limitées) : Passions Culture: 06 61 15 48 11.
URL:https://etaples-sur-mer.fr/evenement/atelier-scrapbooking-3-2-2/
LOCATION:Salle Abbé Delattre\, Boulevard de l'impératrice\, etaples\, 62630\, France
CATEGORIES:Art,Associations
ATTACH;FMTTYPE=image/jpeg:https://etaples-sur-mer.fr/wp-content/uploads/2025/08/Scrap-affiche-septembre-octobre-2025-VD3.jpg
END:VEVENT
END:VCALENDAR