BEGIN:VCALENDAR
VERSION:2.0
PRODID:-//Ville d&#039;Etaples sur mer - ECPv6.15.13.1//NONSGML v1.0//EN
CALSCALE:GREGORIAN
METHOD:PUBLISH
X-WR-CALNAME:Ville d&#039;Etaples sur mer
X-ORIGINAL-URL:https://etaples-sur-mer.fr
X-WR-CALDESC:Évènements pour Ville d&#039;Etaples sur mer
REFRESH-INTERVAL;VALUE=DURATION:PT1H
X-Robots-Tag:noindex
X-PUBLISHED-TTL:PT1H
BEGIN:VTIMEZONE
TZID:Europe/Paris
BEGIN:DAYLIGHT
TZOFFSETFROM:+0100
TZOFFSETTO:+0200
TZNAME:CEST
DTSTART:20240331T010000
END:DAYLIGHT
BEGIN:STANDARD
TZOFFSETFROM:+0200
TZOFFSETTO:+0100
TZNAME:CET
DTSTART:20241027T010000
END:STANDARD
BEGIN:DAYLIGHT
TZOFFSETFROM:+0100
TZOFFSETTO:+0200
TZNAME:CEST
DTSTART:20250330T010000
END:DAYLIGHT
BEGIN:STANDARD
TZOFFSETFROM:+0200
TZOFFSETTO:+0100
TZNAME:CET
DTSTART:20251026T010000
END:STANDARD
BEGIN:DAYLIGHT
TZOFFSETFROM:+0100
TZOFFSETTO:+0200
TZNAME:CEST
DTSTART:20260329T010000
END:DAYLIGHT
BEGIN:STANDARD
TZOFFSETFROM:+0200
TZOFFSETTO:+0100
TZNAME:CET
DTSTART:20261025T010000
END:STANDARD
END:VTIMEZONE
BEGIN:VEVENT
DTSTART;TZID=Europe/Paris:20250704T200000
DTEND;TZID=Europe/Paris:20250704T210000
DTSTAMP:20260425T034941
CREATED:20250610T091731Z
LAST-MODIFIED:20250613T120301Z
UID:224110-1751659200-1751662800@etaples-sur-mer.fr
SUMMARY:CONCERT/RÉPÉTITION DE LA MUSIQUE COMMUNALE
DESCRIPTION:Répétition en plein air. \nInfos :  L. Sauvage – 06 63 79 47 58
URL:https://etaples-sur-mer.fr/evenement/concert-de-la-musique-communale/
LOCATION:Quartier de la pierre trouée
CATEGORIES:Animations,Art,Culture,musique,Spectacle
ATTACH;FMTTYPE=image/jpeg:https://etaples-sur-mer.fr/wp-content/uploads/2025/06/504531645_738994585169670_353971134678426413_n.jpg
END:VEVENT
BEGIN:VEVENT
DTSTART;VALUE=DATE:20250705
DTEND;VALUE=DATE:20250706
DTSTAMP:20260425T034941
CREATED:20250620T081024Z
LAST-MODIFIED:20250701T082621Z
UID:225426-1751673600-1751759999@etaples-sur-mer.fr
SUMMARY:1ère édition de la Fête du Rayé – le 5 juillet 2025
DESCRIPTION:NOUVEL ÉVÉNEMENT À ÉTAPLES-SUR-MER  1ère édition de la Fête du Rayé – le 5 juillet 2025 Guinguette de la Baie – Chez Marcel Toute la journée Sortez votre plus belle marinière et rejoignez-nous pour une soirée festive au bord de l’eau avec une ambiance conviviale garantie ! Au programme : des concerts live avec Chez Marcel Prost’at Moon Lemon Curd Musique\, sourires\, enfants qui dansent\, bonne humeur… L’été commence fort à Étaples-sur-Mer ! Un événement créé et organisé par le groupe Chez Marcel. Partagez\, venez nombreux et faites rayonner l’esprit du rayé !#FêteDuRayé #EtaplesSurMer #GuinguetteDeLaBaie #ChezMarcel #Concerts #AmbianceMarine #RayéParty
URL:https://etaples-sur-mer.fr/evenement/1ere-edition-de-la-fete-du-raye-le-5-juillet-2025/
LOCATION:Guinguette de la Baie de Canche
CATEGORIES:Animations,Art,Associations,Culture
ATTACH;FMTTYPE=image/jpeg:https://etaples-sur-mer.fr/wp-content/uploads/2025/06/affiche-2025.jpg
END:VEVENT
BEGIN:VEVENT
DTSTART;TZID=Europe/Paris:20250705T080000
DTEND;TZID=Europe/Paris:20250720T170000
DTSTAMP:20260425T034941
CREATED:20250630T084706Z
LAST-MODIFIED:20250630T100555Z
UID:226081-1751702400-1753030800@etaples-sur-mer.fr
SUMMARY:Exposition Hors les murs – mise à l’honneur d’Olivier Fasquel
DESCRIPTION:Dans le cadre de l’estivale des arts\, la ville d’Etaples-sur-mer propose aux commerçants étaplois d’exposer des œuvres de l’artiste Olivier Fasquel ; 24 commerces ont répondu présent pour participer à cette carte blanche.   \nNé en 1960 à Étaples-sur-Mer\, Olivier Fasquel a montré dès son plus jeune âge un véritable talent pour le dessin et la peinture. Aspirant à poursuivre cette passion\, il a participé à des concours de dessin organisés par l’UFOLEA\, où il a remporté plusieurs distinctions\, dont un premier prix départemental. \nÀ 16 ans\, Olivier Fasquel devient apprenti dans un atelier de lettrage\, où il développe ses compétences en manipulation de la martre et en mélange des couleurs. Plus tard\, il travaille dans un atelier d’art au Touquet avec l’artiste peintre Ulysse Melegari\, découvrant la sérigraphie d’art et réalisant des séries limitées d’œuvres de peintres renommés. \nAutodidacte\, il se tourne vers l’hyperréalisme et choisit l’acrylique pour ses toiles. Il applique plusieurs couches de peinture pour créer une profondeur remarquable et jouer avec la lumière\, distinguant clairement le fond de l’objet principal avec des couleurs vives\, donnant à ses œuvres une qualité photographique authentique. \nLes thèmes de prédilection d’Olivier incluent les natures mortes\, les voitures\, l’Amérique des années 50\, les scènes de rue\, les groupes de rock et les animaux. Ses œuvres se distinguent par des reflets saisissants et des couleurs éclatantes\, révélant sa passion et son talent. \nListe des commerces participant :  ABEL Agence Baillet Canche Immobilier – Léonidas Etaples- Era six immobolier – Les merveilles de Léandra – les merveilles Léandra by L – Chez ma Marc 6 Bar à quai – l’après – la balade de Raymond – La crèmerie du pont rose – Un autre regard – Belle in Belin – Bibé boutique Numéro 15 – Brydi Fleurs – Martinage Guillaume – Asc cordonnerie – le Bö Bar – les petites trouvailles – le bio à ma guise – le havanitos – Au primeur de la Baie de Canche – Tendance et Co – Escal Hôtel – Hair Zen \nInfos : 03 21 89 62 73
URL:https://etaples-sur-mer.fr/evenement/exposition-hors-les-murs-mise-a-lhonneur-dolivier-fasquel/
LOCATION:dans toute la ville
CATEGORIES:Art,Culture,Exposition
ATTACH;FMTTYPE=image/jpeg:https://etaples-sur-mer.fr/wp-content/uploads/2025/06/Affiche-expo-hors-les-murs-olivier-fasquel-web-scaled.jpg
ORGANIZER;CN="Service %C3%A9v%C3%A9nementiel":MAILTO:communication@etaples-sur-mer.net
END:VEVENT
BEGIN:VEVENT
DTSTART;TZID=Europe/Paris:20250705T100000
DTEND;TZID=Europe/Paris:20250720T180000
DTSTAMP:20260425T034941
CREATED:20250606T101626Z
LAST-MODIFIED:20250624T072546Z
UID:224063-1751709600-1753034400@etaples-sur-mer.fr
SUMMARY:39ème ESTIVALE DES ARTS
DESCRIPTION:Par le service Événementiel \nDu lundi au vendredi de 10h à 12h et de 14h à 18h \nWeek-end et jours fériés de 14H à 18h30 \nTout au long de l’année\, la ville d’Étaples-sur-mer valorise l’art sous toutes ses formes. Au mois de juillet\, la peinture et le dessin sont mis à l’honneur avec la 39ème édition de l’Estivale des arts. Près de 100 artistes de notre région et au-delà exposent dans la salle de la Corderie devenue galerie d’art pour l’occasion. Les visiteurs découvrent alors des œuvres d’inspirations et de techniques diverses : pastels\, aquarelles\, huiles … Amateurs et artistes plus confirmés se côtoient pendant deux semaines pour le plus grand plaisir des visiteurs. Des ateliers permettront aux artistes en herbe de s’initier aux différentes techniques artistiques. \nEntrée libre \nDécouvrez le programme des ateliers au lien suivant : https://etaples-sur-mer.fr/wp-content/uploads/2025/06/Programme-ateliers-estivale-2025.pdf \nInscription obligatoire au 03 21 89 62 73 ou 03 21 89 62 66 \n(Places limitées) \nInfos : 03 21 89 62 66 \n  \n 
URL:https://etaples-sur-mer.fr/evenement/estivale-des-arts/
LOCATION:Salle de la Corderie
CATEGORIES:Animations,Art,Culture
ATTACH;FMTTYPE=image/jpeg:https://etaples-sur-mer.fr/wp-content/uploads/2025/06/Affiche-estivale-des-arts-2025-web-Copier.jpg
ORGANIZER;CN="Service %C3%A9v%C3%A9nementiel":MAILTO:communication@etaples-sur-mer.net
END:VEVENT
BEGIN:VEVENT
DTSTART;TZID=Europe/Paris:20250705T100000
DTEND;TZID=Europe/Paris:20250720T180000
DTSTAMP:20260425T034941
CREATED:20250606T102312Z
LAST-MODIFIED:20250613T120750Z
UID:224066-1751709600-1753034400@etaples-sur-mer.fr
SUMMARY:CARTE BLANCHE À MARTINE LEFEBVRE
DESCRIPTION:Du lundi au vendredi de 10h à 12h et de 14h à 18h \nWeek-end et jours fériés de 14H à 18h30 \nLauréate du grand prix du jury lors de la 38ème   édition de l’Estivale des Arts\, Martine Lefebvre s’est naturellement imposée comme une évidence pour être mise à l’honneur cette année. \nMartine Lefebvre est née en 1959 à Montreuil-sur-Mer.  Après des études pour devenir institutrice\, elle part explorer le monde\, des États-Unis à l’Asie du Sud-Est. Elle s’installe à Étaples et y enseigne en maternelle pendant dix ans\, dans les écoles Jean Moulin\, Jules Ferry et Les Mouettes. C’est en 2019\, au moment de la retraite\, qu’elle se tourne vers la peinture acrylique en autodidacte. Ses premiers tableaux s’inspirent de ses souvenirs de voyage. En 2021\, sa pratique évolue vers une exploration du corps humain\, en particulier de ses distorsions en milieu aquatique. \nInfos : 03 21 89 62 73
URL:https://etaples-sur-mer.fr/evenement/carte-blanche-a-martine-lefebvre/
LOCATION:Hall de la corderie\, Boulevard Bigot Descelers\, Etaples sur Mer\, 62630\, France
CATEGORIES:Animations,Art,Culture
ATTACH;FMTTYPE=image/jpeg:https://etaples-sur-mer.fr/wp-content/uploads/2025/06/Affiche-Carte-Blanche-1-web-Copier.jpg
ORGANIZER;CN="Service %C3%A9v%C3%A9nementiel":MAILTO:communication@etaples-sur-mer.net
END:VEVENT
BEGIN:VEVENT
DTSTART;TZID=Europe/Paris:20250708T100000
DTEND;TZID=Europe/Paris:20250830T230000
DTSTAMP:20260425T034941
CREATED:20250610T121355Z
LAST-MODIFIED:20250612T133508Z
UID:224137-1751968800-1756594800@etaples-sur-mer.fr
SUMMARY:ESCAPE GAME « LUX IN TÉNÉBRIS »
DESCRIPTION:Par la Médiathèque \nDu mardi 8 juillet au samedi 30 août – aux horaires de la médiathèque – médiathèque \nPlongez dans un thriller médiéval… En chemin vers la cour de Gaston III de Foix-Béarn\, Jehan Froissart et son page sont surpris par une tempête. Ils prennent logis pour la nuit au village chez l’abbé Causas. L’atmosphère est ténébreuse. la veille\, deux villageois ont été assassinés. Nos deux héros vont décider de chercher la vérité… \nMuni d’une tablette et d’un casque audio\, vous sillonnerez le village et déambulerez d’un panneau à l’autre à la recherche des indices qui vous permettrons de démasquer le coupable… \nGratuit uniquement sur réservation (à partir de 13 ans – 8 personnes maximum) \nInfos : 03 21 94 29 31
URL:https://etaples-sur-mer.fr/evenement/exposition-interactive-escape-game-lux-in-tenebris/
LOCATION:Médiathèque Marie-Madeleine Gauffeny
CATEGORIES:Art
ATTACH;FMTTYPE=image/jpeg:https://etaples-sur-mer.fr/wp-content/uploads/2025/06/503275502_739014401834355_1306837270527964175_n.jpg
END:VEVENT
BEGIN:VEVENT
DTSTART;TZID=Europe/Paris:20250708T140000
DTEND;TZID=Europe/Paris:20250708T150000
DTSTAMP:20260425T034941
CREATED:20250610T122414Z
LAST-MODIFIED:20250612T121218Z
UID:224140-1751983200-1751986800@etaples-sur-mer.fr
SUMMARY:VISITE GUIDÉE SUR LA CONSTRUCTION EN BOIS
DESCRIPTION:Par les guides de Maréis \nMardi 8 juillet à 14h – au chantier Leprêtre \nAu cours d’une visite guidée de 45 minutes\, découvrez la vie du chantier naval et la construction des canots à clins selon la tradition locale. \nInfos : Mareis. Fr ou 03 21 09 04 00
URL:https://etaples-sur-mer.fr/evenement/patrimoine-immateriel-visite-guidee-sur-la-construction-en-bois/
LOCATION:Mareis\, La corderie\, Boulevard Bigot Descelers\, etaples\, 62630\, France
CATEGORIES:Art,Culture,Historique,Mareis,Tourisme
ATTACH;FMTTYPE=image/jpeg:https://etaples-sur-mer.fr/wp-content/uploads/2025/06/504087975_739018318500630_5784750502468487705_n.jpg
END:VEVENT
BEGIN:VEVENT
DTSTART;TZID=Europe/Paris:20250714T150000
DTEND;TZID=Europe/Paris:20250714T233000
DTSTAMP:20260425T034941
CREATED:20250619T083922Z
LAST-MODIFIED:20250619T083922Z
UID:225289-1752505200-1752535800@etaples-sur-mer.fr
SUMMARY:QUARTIERS LIBRES : FESTIVAL DES ARTS DE LA RUE
DESCRIPTION:Par le service Événementiel  \nLundi 14 juillet à partir de 15h – En centre-ville et rues annexes \nDans un espace public transformé pour l’occasion en gigantesque territoire dédié au spectacle et à la féérie\, les visiteurs viendront s’émerveiller et applaudir de nombreux artistes de rue qui les inviteront à un total dépaysement. Un rendez-vous festif étonnant et totalement gratuit. On pourra y découvrir un large éventail de comédiens\, musiciens\, sportifs et artistes qui nous dévoileront leurs plus beaux atouts. Il y aura également de quoi s’amuser avec des espaces de jeux anciens et de jeux de société modernes\, des stands de maquillage pour les plus petits\, des espaces dédiés aux graffeurs et artistes de rue et une rencontre gourmande avec des producteurs locaux. \nLa programmation musicale fera également le plein pour délivrer une ambiance festive durant toute l’après-midi. \nComme promis\, en fin de soirée\, le grand rassemblement des artistes et du public formera la « Para’dingue ». Les musiciens arriveront en tête\, en centre-ville\, vers 22h30. Le cortège\, suivi du public\, défilera dans les rues de la ville au son des percussions et des sifflets en empruntant les rues de Rosamel et de Camiers\, pour rejoindre le port à 23h où sera tiré le grand feu d’artifice. \nGRATUIT \nInfos : Service Événementiel – 03.21.89.62.70
URL:https://etaples-sur-mer.fr/evenement/quartiers-libres-festival-des-arts-de-la-rue/
LOCATION:Place du Général de Gaulle\, France
CATEGORIES:Animations,Art,Culture,danse,Festival,musique,Spectacle,Theatre
ATTACH;FMTTYPE=image/jpeg:https://etaples-sur-mer.fr/wp-content/uploads/2025/06/Affiche-quartiers-libres-2025-copie-Copier.jpg
ORGANIZER;CN="Service %C3%A9v%C3%A9nementiel":MAILTO:communication@etaples-sur-mer.net
END:VEVENT
BEGIN:VEVENT
DTSTART;TZID=Europe/Paris:20250715T140000
DTEND;TZID=Europe/Paris:20250715T230000
DTSTAMP:20260425T034941
CREATED:20250611T073908Z
LAST-MODIFIED:20250613T071616Z
UID:224277-1752588000-1752620400@etaples-sur-mer.fr
SUMMARY:VISITE GUIDÉE SUR LA CONSTRUCTION EN BOIS
DESCRIPTION:Par les guides de Maréis \nAu cours d’une visite guidée de 45 minutes\, découvrez la vie du chantier naval et la construction des canots à clins selon la tradition locale. \nInfos : Mareis. Fr ou 03 21 09 04 00
URL:https://etaples-sur-mer.fr/evenement/visite-guidee-sur-la-construction-en-bois/
LOCATION:chantier Leprêtre
CATEGORIES:Art,Culture,Exposition,Historique,Tourisme
ATTACH;FMTTYPE=image/jpeg:https://etaples-sur-mer.fr/wp-content/uploads/2025/06/504087975_739018318500630_5784750502468487705_n-1.jpg
END:VEVENT
BEGIN:VEVENT
DTSTART;TZID=Europe/Paris:20250716T103000
DTEND;TZID=Europe/Paris:20250716T113000
DTSTAMP:20260425T034941
CREATED:20250701T075608Z
LAST-MODIFIED:20250701T075628Z
UID:226384-1752661800-1752665400@etaples-sur-mer.fr
SUMMARY:Visite guidée : « Les Graffs dans la ville »
DESCRIPTION:Balade commentée dans la ville. \n Mercredi 16 Juillet\, 10h00 \nVenez découvrir\, lors d’une balade accompagnée\, le street art présent dans la ville avec les graffs de C215\, Made in graffiti\, KMU\, Jef Aérosol… Cet art urbain\, inspiré à Etaples-sur-mer du patrimoine maritime de la commune\, se découvre au détour d’une rue et nous surprend ! \nDépart de l’office de tourisme à 10h \nSur réservation : 2 personnes min. et 35 personnes maximum (bons marcheurs) \nTarifs : 5 € par adulte\, 4 € par enfant\, durée : 2h \nInfos : 03 21 09 56 94 – Office municipal de tourisme
URL:https://etaples-sur-mer.fr/evenement/visite-guidee-les-graffs-dans-la-ville-13/
LOCATION:Office de Tourisme
CATEGORIES:Art,Culture,Tourisme
ATTACH;FMTTYPE=image/jpeg:https://etaples-sur-mer.fr/wp-content/uploads/2025/07/Image3.jpg
END:VEVENT
BEGIN:VEVENT
DTSTART;TZID=Europe/Paris:20250718T080000
DTEND;TZID=Europe/Paris:20250718T110000
DTSTAMP:20260425T034941
CREATED:20250611T134239Z
LAST-MODIFIED:20250613T075537Z
UID:224418-1752825600-1752836400@etaples-sur-mer.fr
SUMMARY:PHOTO NATURE
DESCRIPTION:Par le service « Nature » \nMaison de la Faune et de la Flore Clos St-Victor\, Bd Bigot-Descelers \nEquipé de votre matériel photographique\, partez à la rencontre de la faune et de la flore locale qui peuple l’estuaire de la Canche. \nTarif : 5€ – Nombre de places limitées – Vêtements adaptés – Non adapté aux enfants \nInfos et inscriptions obligatoires Service Nature : 03.21.84.13.93 (8h30 – 16h30) / 06.66.25.03.72
URL:https://etaples-sur-mer.fr/evenement/photo-nature-3/
LOCATION:– Maison de la Faune et de la Flore Clos St-Victor
CATEGORIES:Animations,Art,balade,Nature,Tourisme
ATTACH;FMTTYPE=image/jpeg:https://etaples-sur-mer.fr/wp-content/uploads/2025/06/503385618_739056381830157_5731556309343976650_n.jpg
END:VEVENT
BEGIN:VEVENT
DTSTART;TZID=Europe/Paris:20250719T093000
DTEND;TZID=Europe/Paris:20250720T233000
DTSTAMP:20260425T034941
CREATED:20250611T140821Z
LAST-MODIFIED:20250613T081121Z
UID:224427-1752917400-1753054200@etaples-sur-mer.fr
SUMMARY:FESTI’MOULES
DESCRIPTION:Par l’association « Musique Passion – Amis Chemin » \nInfos : S. Leprêtre – 06 22 68 28 17 \nDeux jours de musique\, de fête et de partage\, pour toutes les générations. \nAu programme : \nDes covers de vos idoles françaises : « Envole-moi\, version Génération Goldman »\, « Le meilleur de Louise Attaque »\, Bastien Rémy\, le sosie officiel de « Cloclo »\, « Le Jazz Band du Touquet » avec Eddy Buzy\, Pierre Cléry\, Noémie Fourny\, les groupes « 1 Fusion » et « Tohu Bohu » et bien sûr « Amis >Chemin »… de la chanson française\, du rock’n’roll\, du festif\, et surtout… de la pure musique vivante ! \nDes artistes locaux\, une scène qui grandit chaque année\, une ambiance iodée et populaire comme vous l’aimez ! \nPour les enfants : Structures gonflables\, mascottes\, animations et surprises ! \nMarché artisanal\, \nBar\, moules\, frites\, fruits de mer… \nEt partout autour de vous\, les bénévoles engagés et souriants. \nPas besoin de réserver : tout est dans le programme ! Il suffit de venir… et de vivre l’instant. \nOn allume les projecteurs ce week-end-là. Soyez prêts. Soyez là.
URL:https://etaples-sur-mer.fr/evenement/festimoules-3/
LOCATION:Parking de la Capitainerie
CATEGORIES:Animations,Art,Associations,cuisine,Festival,Jeunesse,Jeux,musique,Repas,Sur plusieurs jours
ATTACH;FMTTYPE=image/jpeg:https://etaples-sur-mer.fr/wp-content/uploads/2025/06/503151238_739062615162867_8135174641902048707_n.jpg
END:VEVENT
BEGIN:VEVENT
DTSTART;TZID=Europe/Paris:20250723T103000
DTEND;TZID=Europe/Paris:20250723T113000
DTSTAMP:20260425T034941
CREATED:20250612T070456Z
LAST-MODIFIED:20250613T083917Z
UID:224460-1753266600-1753270200@etaples-sur-mer.fr
SUMMARY:LES ATELIERS MARÉIS : VISITE CONTÉE P’TIT MOUSSE PART À LA PÊCHE (SPÉCIAL 3-5 ANS)
DESCRIPTION:Ateliers pour enfants encadrés par un médiateur de Maréis. La présence d’un parent est obligatoire pour les enfants jusque 7 ans (facultatif au-delà) \nTarif : 6€ / enfant – gratuit /parent. Durée : 1h \nInfos : Mareis.fr ou 03 21 09 04 00 \n 
URL:https://etaples-sur-mer.fr/evenement/les-ateliers-mareis-visite-contee-ptit-mousse-part-a-la-peche/
LOCATION:Mareis\, La corderie\, Boulevard Bigot Descelers\, etaples\, 62630\, France
CATEGORIES:Animations,Art,Jeunesse
ATTACH;FMTTYPE=image/jpeg:https://etaples-sur-mer.fr/wp-content/uploads/2025/06/503922799_739034758498986_1928103208505040631_n-2.jpg
END:VEVENT
BEGIN:VEVENT
DTSTART;TZID=Europe/Paris:20250730T100000
DTEND;TZID=Europe/Paris:20250730T113000
DTSTAMP:20260425T034941
CREATED:20250701T075927Z
LAST-MODIFIED:20250701T075927Z
UID:226389-1753869600-1753875000@etaples-sur-mer.fr
SUMMARY:Visite guidée : « Les Graffs dans la ville »
DESCRIPTION:Balade commentée dans la ville. \nMercredi 30 Juillet à 10h00 \nVenez découvrir\, lors d’une balade accompagnée\, le street art présent dans la ville avec les graffs de C215\, Made in graffiti\, KMU\, Jef Aérosol… Cet art urbain\, inspiré à Etaples-sur-mer du patrimoine maritime de la commune\, se découvre au détour d’une rue et nous surprend ! \nDépart de l’office de tourisme à 10h \nSur réservation : 2 personnes min. et 35 personnes maximum (bons marcheurs) \nTarifs : 5 € par adulte\, 4 € par enfant\, durée : 2h \nInfos : 03 21 09 56 94 – Office municipal de tourisme
URL:https://etaples-sur-mer.fr/evenement/visite-guidee-les-graffs-dans-la-ville-14/
LOCATION:Office de Tourisme
CATEGORIES:Art,Culture,Tourisme
ATTACH;FMTTYPE=image/jpeg:https://etaples-sur-mer.fr/wp-content/uploads/2025/07/Image3.jpg
END:VEVENT
END:VCALENDAR