BEGIN:VCALENDAR
VERSION:2.0
PRODID:-//Ville d&#039;Etaples sur mer - ECPv6.15.13.1//NONSGML v1.0//EN
CALSCALE:GREGORIAN
METHOD:PUBLISH
X-WR-CALNAME:Ville d&#039;Etaples sur mer
X-ORIGINAL-URL:https://etaples-sur-mer.fr
X-WR-CALDESC:Évènements pour Ville d&#039;Etaples sur mer
REFRESH-INTERVAL;VALUE=DURATION:PT1H
X-Robots-Tag:noindex
X-PUBLISHED-TTL:PT1H
BEGIN:VTIMEZONE
TZID:Europe/Paris
BEGIN:DAYLIGHT
TZOFFSETFROM:+0100
TZOFFSETTO:+0200
TZNAME:CEST
DTSTART:20230326T010000
END:DAYLIGHT
BEGIN:STANDARD
TZOFFSETFROM:+0200
TZOFFSETTO:+0100
TZNAME:CET
DTSTART:20231029T010000
END:STANDARD
BEGIN:DAYLIGHT
TZOFFSETFROM:+0100
TZOFFSETTO:+0200
TZNAME:CEST
DTSTART:20240331T010000
END:DAYLIGHT
BEGIN:STANDARD
TZOFFSETFROM:+0200
TZOFFSETTO:+0100
TZNAME:CET
DTSTART:20241027T010000
END:STANDARD
BEGIN:DAYLIGHT
TZOFFSETFROM:+0100
TZOFFSETTO:+0200
TZNAME:CEST
DTSTART:20250330T010000
END:DAYLIGHT
BEGIN:STANDARD
TZOFFSETFROM:+0200
TZOFFSETTO:+0100
TZNAME:CET
DTSTART:20251026T010000
END:STANDARD
END:VTIMEZONE
BEGIN:VEVENT
DTSTART;VALUE=DATE:20240929
DTEND;VALUE=DATE:20241115
DTSTAMP:20260425T174400
CREATED:20240620T140100Z
LAST-MODIFIED:20241010T125325Z
UID:199766-1727568000-1731628799@etaples-sur-mer.fr
SUMMARY:EXPOSITION LE ROMAN DE L'ECRITURE : DU CUNEIFORME AU CYBERTEXTE"
DESCRIPTION:Par la Médiathèque \nDu dimanche 29 septembre au jeudi 14 novembre: aux horaires d’ouverture de la médiathèque \nComment l’idée d’écrire vint elle aux hommes ? Des premiers signes gravés à la création d’alphabet on voit les moyens d’écrire se structurer et évoluer. De l’invention de l’imprimerie à l’ère numérique les supports d’écriture ont changé\, néanmoins il reste des civilisations sans écriture et des parties de la population éloignées de la lecture. Cette exposition structurée et bien illustrée reprend tout un pan de l’Histoire de l’homme : le roman de l’écriture \nExposition organisée avec le concours du Département du Pas de Calais \nInfos : Médiathèque – 03 21 94 29 31
URL:https://etaples-sur-mer.fr/evenement/exposition-le-roman-de-lecriture-du-cuneiforme-au-cybertexte/
LOCATION:Médiathèque\, 150 rue de Camiers\, etaples\, 62630\, France
CATEGORIES:Art
ATTACH;FMTTYPE=image/jpeg:https://etaples-sur-mer.fr/wp-content/uploads/2024/06/EXPOSITION-LE-ROMAN-DE-LECRITURE-DU-CUNEIFORME-AU-CYBERTEXTE-scaled.jpg
END:VEVENT
BEGIN:VEVENT
DTSTART;TZID=Europe/Paris:20241014T140000
DTEND;TZID=Europe/Paris:20241014T163000
DTSTAMP:20260425T174400
CREATED:20240704T072230Z
LAST-MODIFIED:20240826T092830Z
UID:201081-1728914400-1728923400@etaples-sur-mer.fr
SUMMARY:SCRAPBOOKING facile
DESCRIPTION:Les Ateliers de Marine ou le scrapbooking facile pour tous les niveaux \nRendez-vous salle Abbé Delattre\, boulevard de l’Impératrice\nLe 9\, 16 septembre et le 30 et 14 octobre 2024 de 14h à 16h30\nLes ateliers sont indépendants les uns des autres \nPlus d’informations et inscription (obligatoire\, places limitées)\nau 06 61 15 48 11 ou philippe.floure@sfr.fr \nAtelier réservé aux enfants de 7 à 14 ans le 28 octobre de 10h à 11h30.\nInitiation pour les enfants à l’art du papier. À partir d’un modèle\, plusieurs techniques seront abordées afin de réaliser une carte :\nles outils\, les couleurs\, les pochoirs\, le découpage\, l’ajout d’un titre\nChacun repartira avec sa carte \nMatériel à apporter : crayons de couleur\, feutres
URL:https://etaples-sur-mer.fr/evenement/scrapbooking-facile/
LOCATION:Salle Abbé Delattre\, Boulevard de l'impératrice\, etaples\, 62630\, France
CATEGORIES:Animations,Art,Associations
ATTACH;FMTTYPE=image/jpeg:https://etaples-sur-mer.fr/wp-content/uploads/2024/07/UTF-8_Q_Affiche_Scrap_calendrier_des_sC3A9_-_UTF-8_Q_a__-___filename_1__nces_Sept_-_Oct__2024_VD3.jpg
END:VEVENT
BEGIN:VEVENT
DTSTART;TZID=Europe/Paris:20241023T143000
DTEND;TZID=Europe/Paris:20241023T163000
DTSTAMP:20260425T174400
CREATED:20240620T142153Z
LAST-MODIFIED:20240620T142153Z
UID:199811-1729693800-1729701000@etaples-sur-mer.fr
SUMMARY:VISITE GUIDÉE « LES GRAFFS DANS LA VILLE »  
DESCRIPTION:  \nPar le Musée Quentovic \nMercredi 23 octobre  à 14h30 – Départ de l’Office de Tourisme  \nBalade commentée dans la ville. \nVenez découvrir\, lors d’une balade accompagnée\, le street art présent dans la ville avec les graffs de C215\, Made in graffiti\, KMU\, Jef Aérosol… Cet art urbain\, inspiré à Etaples-sur-mer du patrimoine maritime de la commune\, se découvre au détour d’une rue et nous surprend !  \nSur réservation : 2 personnes min. et 35 personnes maximum (bons marcheurs) \nTarifs : 5 € par adulte\, 4 € par enfant\, durée : 2h \nInfos : 03 21 09 56 94 – Office municipal de tourisme 
URL:https://etaples-sur-mer.fr/evenement/visite-guidee-les-graffs-dans-la-ville-8/
LOCATION:Office de Tourisme
CATEGORIES:Art,balade,Culture
ATTACH;FMTTYPE=image/jpeg:https://etaples-sur-mer.fr/wp-content/uploads/2024/06/LES-GRAFFS-DANS-LA-VILLE-detaples.jpg
END:VEVENT
BEGIN:VEVENT
DTSTART;TZID=Europe/Paris:20241025T140000
DTEND;TZID=Europe/Paris:20241025T160000
DTSTAMP:20260425T174400
CREATED:20240620T144004Z
LAST-MODIFIED:20241001T151954Z
UID:199819-1729864800-1729872000@etaples-sur-mer.fr
SUMMARY:SPECTACLE MUSICAL
DESCRIPTION:Par le Conseil Départemental du Pas-de-Calais\n \nVendredi 25 octobre – Salle des oyats à 14h (ouverture des portes à 13h15)\n \nDans le cadre de la semaine bleue\, le Conseil départemental du Pas-de-Calais invite les aînés à se remémorer la belle époque dans un esprit cabaret orchestré par la troupe Léo Lagrange de Boulogne-sur-mer. La représentation se déroulera à la salle des Oyats le vendredi 25 octobre à partir de 14h30. \nC’est dans le quotidien d’un groupe de jeunes retraités que nous invite le Club Léo Lagrange. Les personnages nous racontent des tranches de vie tantôt joyeuses\, l’arrivée des congés payés\, souvenirs de jeunesse\, tantôt plus sombres\, souvenirs de la guerre\, et évoquent avec beaucoup d’humour et de légèreté leur quotidien : le tout en chansons !  \nDes années musette d’avant-guerre\, en passant par les années 60\, pour s’arrêter en 2017\, les musiciens et chanteurs font voyager le public à travers le temps grâce à des chansons d’artistes de qualité\, créant ainsi une ambiance où la morosité n’a pas le temps de s’installer.  \nCe spectacle original mêle avec brio nostalgie et optimisme : la vie commence à 60 ans !! \nEntrée gratuite \nLe nombre de places limité à 500\, sur inscription à partir du 1er octobre auprès du conseil départemental. \nRENSEIGNEMENTS \nContact – 03 21 21 62 02 de 9h à 12h et de 14h à 17h \n 
URL:https://etaples-sur-mer.fr/evenement/spectacle-musical/
LOCATION:Salle des Oyats\, Avenue des Oyats\, etaples\, 62630\, France
CATEGORIES:Art,musique
ATTACH;FMTTYPE=image/jpeg:https://etaples-sur-mer.fr/wp-content/uploads/2024/06/AFFICHE-A4-SB-2024-ETAPLES_compressed_page-0001-scaled.jpg
END:VEVENT
BEGIN:VEVENT
DTSTART;TZID=Europe/Paris:20241026T203000
DTEND;TZID=Europe/Paris:20241026T203000
DTSTAMP:20260425T174400
CREATED:20240620T145614Z
LAST-MODIFIED:20240911T091150Z
UID:199835-1729974600-1729974600@etaples-sur-mer.fr
SUMMARY:LA TOILE D'ARAIGNEE 
DESCRIPTION:Par le Théâtre H. \nSamedi 26 octobre à 20h30 – Salle de la Corderie \nLa troupe amateur de la région parisienne\, « Le Théâtre H »\, présente cette année son adaptation théâtrale de « La Toile d’araignée »\, une pièce d’Agatha Christie \nClarissa Hailsham-Brown\, une femme charmante et imaginative\, est l’épouse d’un diplomate britannique souvent absent\, Henry Hailsham-Brown. Elle adore inventer des histoires pour amuser ses invités et passer le temps. Un jour\, elle se retrouve impliquée dans une situation qui dépasse toutes ses inventions : un véritable meurtre se produit dans son salon. \nTarifs : 10€ / gratuit pour les moins de 13 ans\nRenseignements et billetterie : Compagnie Théâtre H – 03 21 89 62 73
URL:https://etaples-sur-mer.fr/evenement/la-toile-daraignee/
LOCATION:Salle de la Corderie
CATEGORIES:Animations,Art,Theatre
ATTACH;FMTTYPE=image/jpeg:https://etaples-sur-mer.fr/wp-content/uploads/2024/06/Affiche-theatre-toile-araignee-copie-scaled.jpg
ORGANIZER;CN="Service %C3%A9v%C3%A9nementiel":MAILTO:communication@etaples-sur-mer.net
END:VEVENT
BEGIN:VEVENT
DTSTART;TZID=Europe/Paris:20241028T100000
DTEND;TZID=Europe/Paris:20241028T113000
DTSTAMP:20260425T174400
CREATED:20240704T072230Z
LAST-MODIFIED:20240821T094606Z
UID:205387-1730109600-1730115000@etaples-sur-mer.fr
SUMMARY:SCRAPBOOKING facile - Réservé aux enfants
DESCRIPTION:Les Ateliers de Marine ou le scrapbooking facile pour tous les niveaux \nRendez-vous salle Abbé Delattre\, boulevard de l’Impératrice\nLe 9\, 16 septembre et le 1 et 14 octobre 2024 de 14h à 16h30\nLes ateliers sont indépendants les uns des autres \nPlus d’informations et inscription (obligatoire\, places limitées)\nau 06 61 15 48 11 ou philippe.floure@sfr.fr \nAtelier réservé aux enfants de 7 à 14 ans le 28 octobre de 10h à 11h30.\nInitiation pour les enfants à l’art du papier. À partir d’un modèle\, plusieurs techniques seront abordées afin de réaliser une carte :\nles outils\, les couleurs\, les pochoirs\, le découpage\, l’ajout d’un titre\nChacun repartira avec sa carte \nMatériel à apporter : crayons de couleur\, feutres
URL:https://etaples-sur-mer.fr/evenement/scrapbooking-facile-2-2-2-2/
LOCATION:Salle Abbé Delattre\, Boulevard de l'impératrice\, etaples\, 62630\, France
CATEGORIES:Animations,Art,Associations
ATTACH;FMTTYPE=image/jpeg:https://etaples-sur-mer.fr/wp-content/uploads/2024/07/455807810_529488979453566_6964215884189923256_n.jpg
END:VEVENT
BEGIN:VEVENT
DTSTART;TZID=Europe/Paris:20241029T140000
DTEND;TZID=Europe/Paris:20241029T153000
DTSTAMP:20260425T174400
CREATED:20240620T150505Z
LAST-MODIFIED:20240620T150505Z
UID:199853-1730210400-1730215800@etaples-sur-mer.fr
SUMMARY:LAND ’ART
DESCRIPTION:Par le service Nature \nMardi 29 octobre à 14h00 – Clos Saint-Victor  \nConfectionnez des personnages à partir de matériaux naturels trouvés dans la nature. \nInscriptions obligatoires – 5 € / personne – Durée 1h30 \nInfos : Service Nature 03.21.84.13.93 / 06.66.25.03.72
URL:https://etaples-sur-mer.fr/evenement/land-art/
LOCATION:clos saint victor
CATEGORIES:Art,Jeunesse
ATTACH;FMTTYPE=image/jpeg:https://etaples-sur-mer.fr/wp-content/uploads/2024/06/LAND-ART-1.jpg
ORGANIZER;CN="Service nature de la ville d'Etaples sur mer":MAILTO:nature.etaples@gmail.com
END:VEVENT
BEGIN:VEVENT
DTSTART;TZID=Europe/Paris:20241030T103000
DTEND;TZID=Europe/Paris:20241030T170000
DTSTAMP:20260425T174400
CREATED:20240620T152828Z
LAST-MODIFIED:20240821T091442Z
UID:199858-1730284200-1730307600@etaples-sur-mer.fr
SUMMARY:LES ATELIERS MARÉIS : JE CRÉE MON POISSON EN FEUILLES MORTES
DESCRIPTION:Mercredi 30 octobre à 10h30 – Centre Maréis \nAteliers pour enfants de 4 à 12 ans\, encadrés par un médiateur de Maréis. La présence d’un parent est obligatoire pour les enfants jusqu’à 7 ans.  \nTarif : 6€ par enfant – 1 heure \nInfos : Mareis.fr ou 03 21 09 04 00 \n 
URL:https://etaples-sur-mer.fr/evenement/les-ateliers-mareis-je-cree-mon-poisson-en-feuilles-mortes/
LOCATION:Mareis\, La corderie\, Boulevard Bigot Descelers\, etaples\, 62630\, France
CATEGORIES:Art,Jeunesse
ATTACH;FMTTYPE=image/jpeg:https://etaples-sur-mer.fr/wp-content/uploads/2024/06/455836722_529982792737518_2120882922451773405_n.jpg
END:VEVENT
END:VCALENDAR