BEGIN:VCALENDAR
VERSION:2.0
PRODID:-//Ville d&#039;Etaples sur mer - ECPv6.15.13.1//NONSGML v1.0//EN
CALSCALE:GREGORIAN
METHOD:PUBLISH
X-ORIGINAL-URL:https://etaples-sur-mer.fr
X-WR-CALDESC:Évènements pour Ville d&#039;Etaples sur mer
REFRESH-INTERVAL;VALUE=DURATION:PT1H
X-Robots-Tag:noindex
X-PUBLISHED-TTL:PT1H
BEGIN:VTIMEZONE
TZID:Europe/Paris
BEGIN:DAYLIGHT
TZOFFSETFROM:+0100
TZOFFSETTO:+0200
TZNAME:CEST
DTSTART:20230326T010000
END:DAYLIGHT
BEGIN:STANDARD
TZOFFSETFROM:+0200
TZOFFSETTO:+0100
TZNAME:CET
DTSTART:20231029T010000
END:STANDARD
BEGIN:DAYLIGHT
TZOFFSETFROM:+0100
TZOFFSETTO:+0200
TZNAME:CEST
DTSTART:20240331T010000
END:DAYLIGHT
BEGIN:STANDARD
TZOFFSETFROM:+0200
TZOFFSETTO:+0100
TZNAME:CET
DTSTART:20241027T010000
END:STANDARD
BEGIN:DAYLIGHT
TZOFFSETFROM:+0100
TZOFFSETTO:+0200
TZNAME:CEST
DTSTART:20250330T010000
END:DAYLIGHT
BEGIN:STANDARD
TZOFFSETFROM:+0200
TZOFFSETTO:+0100
TZNAME:CET
DTSTART:20251026T010000
END:STANDARD
END:VTIMEZONE
BEGIN:VEVENT
DTSTART;TZID=Europe/Paris:20240803T143000
DTEND;TZID=Europe/Paris:20240803T163000
DTSTAMP:20260425T205520
CREATED:20240612T072450Z
LAST-MODIFIED:20240704T080140Z
UID:198780-1722695400-1722702600@etaples-sur-mer.fr
SUMMARY:CHASSE AU TRÉSOR
DESCRIPTION:Par le service Evénementiel \nSamedi 3 août à 14h30 – Rendez-vous à l’Office Municipal de Tourisme \nPour le plaisir de tous\, petits et grands. Partez à l’aventure et découvrez autrement la commune à l’aide d’énigmes ludiques. Les détectives qui auront résolu le mystère seront récompensés. \nActivité gratuite\, sur réservation \nInscriptions sur place ou www.etaples-sur-mer.fr \nInfos : service  Événementiel  – 03 21 89 62 73
URL:https://etaples-sur-mer.fr/evenement/chasse-au-tresor-2/
LOCATION:Office de Tourisme
CATEGORIES:Animations,Art,balade,Culture,Jeux
ATTACH;FMTTYPE=image/jpeg:https://etaples-sur-mer.fr/wp-content/uploads/2024/06/Affiche-chasse-au-tresor-2024-web-scaled.jpg
ORGANIZER;CN="Service %C3%A9v%C3%A9nementiel":MAILTO:communication@etaples-sur-mer.net
END:VEVENT
BEGIN:VEVENT
DTSTART;TZID=Europe/Paris:20240821T103000
DTEND;TZID=Europe/Paris:20240821T113000
DTSTAMP:20260425T205520
CREATED:20240626T114327Z
LAST-MODIFIED:20240626T114327Z
UID:200621-1724236200-1724239800@etaples-sur-mer.fr
SUMMARY:LES ATELIERS MARÉIS : ATELIER RÉCUP’ : MON POT A CRAYONS MARIN
DESCRIPTION:LES ATELIERS MARÉIS : ATELIER RÉCUP’ : MON POT A CRAYONS MARIN \nMercredi 21 août à 10h30 – Centre Maréis \nAteliers pour enfants de 4 à 12 ans\, encadrés par un médiateur de Maréis. La présence d’un parent est obligatoire pour les enfants jusqu’à 7 ans. \nTarif : 6€ par enfant – 1 heure \nInfos : Mareis.fr ou 03 21 09 04 00
URL:https://etaples-sur-mer.fr/evenement/les-ateliers-mareis-atelier-recup-mon-pot-a-crayons-marin/
LOCATION:Mareis\, La corderie\, Boulevard Bigot Descelers\, etaples\, 62630\, France
CATEGORIES:Animations,Art,Mareis
ATTACH;FMTTYPE=image/jpeg:https://etaples-sur-mer.fr/wp-content/uploads/2023/12/les-activites-pour-les-ptits-matelots-mareis-1-1.jpg
END:VEVENT
BEGIN:VEVENT
DTSTART;TZID=Europe/Paris:20240825T180000
DTEND;TZID=Europe/Paris:20240828T150000
DTSTAMP:20260425T205520
CREATED:20240821T100200Z
LAST-MODIFIED:20240821T100218Z
UID:205395-1724608800-1724857200@etaples-sur-mer.fr
SUMMARY:CIRQUE ACHILLE ZAVATTA DUBOIS
DESCRIPTION:Spectacle du cirque Achille Zavatta DuboisDimanche 25 août 2024 à 18 heuresLundi 26 août 2024 à 18 heuresMardi 27 août 2024 à 18 heuresMercredi 28 août 2024 à 15 heures.\nPréparez-vous à vivre des moments inoubliables en famille ! Le célèbre Cirque Achille Zavatta Dubois pose ses valises sur le port d’Étaples pour quatre représentations exceptionnelles.\nVenez nombreux\, rires et émerveillement garantis ! Soyez au rendez-vous pour un moment magique !
URL:https://etaples-sur-mer.fr/evenement/cirque-achille-zavatta-dubois/
CATEGORIES:Animations,Art,humoriste,Jeunesse,Spectacle
ATTACH;FMTTYPE=image/jpeg:https://etaples-sur-mer.fr/wp-content/uploads/2024/08/455070804_524764803259317_3802392253319174080_n.jpg
END:VEVENT
END:VCALENDAR