BEGIN:VCALENDAR
VERSION:2.0
PRODID:-//Ville d&#039;Etaples sur mer - ECPv6.15.13.1//NONSGML v1.0//EN
CALSCALE:GREGORIAN
METHOD:PUBLISH
X-WR-CALNAME:Ville d&#039;Etaples sur mer
X-ORIGINAL-URL:https://etaples-sur-mer.fr
X-WR-CALDESC:Évènements pour Ville d&#039;Etaples sur mer
REFRESH-INTERVAL;VALUE=DURATION:PT1H
X-Robots-Tag:noindex
X-PUBLISHED-TTL:PT1H
BEGIN:VTIMEZONE
TZID:Europe/Paris
BEGIN:DAYLIGHT
TZOFFSETFROM:+0100
TZOFFSETTO:+0200
TZNAME:CEST
DTSTART:20230326T010000
END:DAYLIGHT
BEGIN:STANDARD
TZOFFSETFROM:+0200
TZOFFSETTO:+0100
TZNAME:CET
DTSTART:20231029T010000
END:STANDARD
BEGIN:DAYLIGHT
TZOFFSETFROM:+0100
TZOFFSETTO:+0200
TZNAME:CEST
DTSTART:20240331T010000
END:DAYLIGHT
BEGIN:STANDARD
TZOFFSETFROM:+0200
TZOFFSETTO:+0100
TZNAME:CET
DTSTART:20241027T010000
END:STANDARD
BEGIN:DAYLIGHT
TZOFFSETFROM:+0100
TZOFFSETTO:+0200
TZNAME:CEST
DTSTART:20250330T010000
END:DAYLIGHT
BEGIN:STANDARD
TZOFFSETFROM:+0200
TZOFFSETTO:+0100
TZNAME:CET
DTSTART:20251026T010000
END:STANDARD
END:VTIMEZONE
BEGIN:VEVENT
DTSTART;TZID=Europe/Paris:20240629T100000
DTEND;TZID=Europe/Paris:20240731T170000
DTSTAMP:20260425T222215
CREATED:20240618T120258Z
LAST-MODIFIED:20240618T120258Z
UID:199197-1719655200-1722445200@etaples-sur-mer.fr
SUMMARY:EXPO : REGARDS MARITIMES
DESCRIPTION:du 29 JUIN au 31 JUILLETMÉDIATHÈQUE M.M. GAUFFENY\nExposition photographique réalisée par les élèves des classes de première Commerce et Gestion des Entreprises Maritimes et Electro-Mécanicien de Marine du lycée maritime Boulogne-sur-mer/Le Portel.\n\nRENSEIGNEMENTS :\nMÉDIATHÈQUE MARIE-MADELEINE GAUFFENYrue de Camiers / 62630 Étaples-sur-merTél : 03 21 94 29 31Facebook : Les-Bons-ZEnfants-dEtaplesENTREE GRATUITE \nVoir moins
URL:https://etaples-sur-mer.fr/evenement/expo-regards-maritimes/
LOCATION:Médiathèque Marie-Madeleine Gauffeny
CATEGORIES:Art,Culture,Exposition
ATTACH;FMTTYPE=image/jpeg:https://etaples-sur-mer.fr/wp-content/uploads/2024/06/affiche-ge╠une╠urique-Alain-copie-rvb-scaled.jpg
END:VEVENT
BEGIN:VEVENT
DTSTART;TZID=Europe/Paris:20240706T100000
DTEND;TZID=Europe/Paris:20240721T170000
DTSTAMP:20260425T222215
CREATED:20240529T133246Z
LAST-MODIFIED:20240611T150136Z
UID:197752-1720260000-1721581200@etaples-sur-mer.fr
SUMMARY:38ème ESTIVALE DES ARTS
DESCRIPTION:par le service « Évènementiel » \nSamedi 6 au dimanche 21 juillet – Salle de la Corderie \nDu lundi au vendredi de 10h à 12h et de 14h à 18hWeek-end et jours fériés de 14 à 18h30 \nTout au long de l’année\, la ville d’Étaples-sur-mer valorise l’art sous toutes ses formes. Au mois de juillet\, la peinture et le dessin sont mis à l’honneur avec la 38ème édition de l’Estivale des arts. Près de 100 artistes de notre région et au-delà exposent dans la salle de la Corderie devenue galerie d’art pour l’occasion. Les visiteurs découvrent alors des œuvres d’inspirations et de techniques diverses : pastels\, aquarelles\, huiles\, … Amateurs et artistes plus confirmés se côtoient pendant deux semaines pour le plus grand plaisir des visiteurs. Des ateliers permettront aux artistes en herbe de s’initier aux différentes techniques artistiques. \nGratuit \nRenseignements : Service « Évènementiel » – 03 21 89 62 73
URL:https://etaples-sur-mer.fr/evenement/38eme-estivale-des-arts/
LOCATION:Salle de la Corderie
CATEGORIES:Animations,Art,Exposition
ATTACH;FMTTYPE=image/jpeg:https://etaples-sur-mer.fr/wp-content/uploads/2024/05/Affiche-estivale-des-arts-2024-web-scaled.jpg
ORGANIZER;CN="Service %C3%A9v%C3%A9nementiel":MAILTO:communication@etaples-sur-mer.net
END:VEVENT
BEGIN:VEVENT
DTSTART;TZID=Europe/Paris:20240714T150000
DTEND;TZID=Europe/Paris:20240714T233000
DTSTAMP:20260425T222215
CREATED:20240610T084939Z
LAST-MODIFIED:20240711T124111Z
UID:198456-1720969200-1720999800@etaples-sur-mer.fr
SUMMARY:FESTIVAL « LES RENC’ARTS DU PORT » ET FEU D’ARTIFICE
DESCRIPTION:  \nPar le service Évènementiel \nDimanche 14 juillet de 15h à minuit – sur le port \nLe dimanche 14 juillet\, à partir de 15 heures\, aura eu lieu la 9ème édition du Festival des Arts de la Rue « LES RENC’ARTS DU PORT ». \nDans un espace public transformé pour l’occasion en gigantesque territoire dédié au spectacle et à la féérie\, les visiteurs viendront s’émerveiller et applaudir de nombreux artistes de rue qui les inviteront à un total dépaysement. Un rendez-vous festif étonnant et totalement gratuit. On pourra y découvrir un large éventail de comédiens\, musiciens\, sportifs et artistes qui nous dévoileront leurs plus beaux atouts. Il y aura également de quoi s’amuser avec des espaces de jeux anciens et de jeux de société modernes\, des stands de maquillage pour les plus petits\, des espaces dédiés aux graffeurs et artistes de rue et une rencontre gourmande avec des producteurs locaux. \nLa programmation musicale fera également le plein pour délivrer une ambiance festive durant toute la journée. \nGratuit \n \nRenseignements : service Évènementiel – 03 21 89 62 70
URL:https://etaples-sur-mer.fr/evenement/festival-les-rencarts-du-port-et-feu-dartifice-2/
LOCATION:Port d’Etaples\, 62630\, France
CATEGORIES:Animations,Art
ATTACH;FMTTYPE=image/jpeg:https://etaples-sur-mer.fr/wp-content/uploads/2024/06/Affiche-rencart-port-2024-copie-Copier.jpg
ORGANIZER;CN="Service %C3%A9v%C3%A9nementiel":MAILTO:communication@etaples-sur-mer.net
END:VEVENT
BEGIN:VEVENT
DTSTART;TZID=Europe/Paris:20240717T080000
DTEND;TZID=Europe/Paris:20240717T110000
DTSTAMP:20260425T222215
CREATED:20240611T090046Z
LAST-MODIFIED:20240611T090046Z
UID:198660-1721203200-1721214000@etaples-sur-mer.fr
SUMMARY:PHOTO NATURE
DESCRIPTION:Par le service Nature \nMercredi 17 juillet à 8h00 – Maison de la Faune et de la Flore – Clos Saint-Victor\, \nEquipé de votre matériel photographique\, partez à la rencontre de la faune et de la flore locale qui peuple l’estuaire de la Canche. \nSortie macrophotographie – Durée 3h00 \nTarif 5€ – Nombre de places limitées – Vêtements adaptés – Non adapté aux enfants. \nInfos et inscriptions : service Nature 03 21 84 13 93 / 06 66 25 03 72
URL:https://etaples-sur-mer.fr/evenement/photo-nature/
LOCATION:Maison de la Faune  et de la Flore
CATEGORIES:Art,balade,Nature
ATTACH;FMTTYPE=image/jpeg:https://etaples-sur-mer.fr/wp-content/uploads/2024/06/photo-nature.jpg
ORGANIZER;CN="Service nature de la ville d'Etaples sur mer":MAILTO:nature.etaples@gmail.com
END:VEVENT
BEGIN:VEVENT
DTSTART;TZID=Europe/Paris:20240731T100000
DTEND;TZID=Europe/Paris:20240731T120000
DTSTAMP:20260425T222215
CREATED:20240612T063540Z
LAST-MODIFIED:20240612T063540Z
UID:198760-1722420000-1722427200@etaples-sur-mer.fr
SUMMARY:VISITE GUIDÉE « LES GRAFFS DANS LA VILLE » 
DESCRIPTION:Par le musée Quentovic \nMercredi 31 Juillet à 10h – Départ de l’Office de Tourisme \nBalade commentée dans la ville. \nVenez découvrir\, lors d’une balade accompagnée\, le street art présent dans la ville avec les graffs de C215\, Made in graffiti\, KMU\, Jef Aérosol… Cet art urbain\, inspiré à Etaples-sur-mer du patrimoine maritime de la commune\, se découvre au détour d’une rue et nous surprend ! \nSur réservation : 2 personnes min. et 35 personnes maximum (bons marcheurs) \nTarifs : 5 € par adulte\, 4 € par enfant\, durée : 2h \nInfos : Office Municipal de Tourisme – 03 21 09 56 94
URL:https://etaples-sur-mer.fr/evenement/visite-guidee-les-graffs-dans-la-ville-7/
LOCATION:Office de Tourisme
CATEGORIES:Art,balade,Culture
ATTACH;FMTTYPE=image/jpeg:https://etaples-sur-mer.fr/wp-content/uploads/2021/12/visite-graph-musee-quentovic.jpg
END:VEVENT
END:VCALENDAR