BEGIN:VCALENDAR
VERSION:2.0
PRODID:-//Ville d&#039;Etaples sur mer - ECPv6.15.13.1//NONSGML v1.0//EN
CALSCALE:GREGORIAN
METHOD:PUBLISH
X-ORIGINAL-URL:https://etaples-sur-mer.fr
X-WR-CALDESC:Évènements pour Ville d&#039;Etaples sur mer
REFRESH-INTERVAL;VALUE=DURATION:PT1H
X-Robots-Tag:noindex
X-PUBLISHED-TTL:PT1H
BEGIN:VTIMEZONE
TZID:Europe/Paris
BEGIN:DAYLIGHT
TZOFFSETFROM:+0100
TZOFFSETTO:+0200
TZNAME:CEST
DTSTART:20230326T010000
END:DAYLIGHT
BEGIN:STANDARD
TZOFFSETFROM:+0200
TZOFFSETTO:+0100
TZNAME:CET
DTSTART:20231029T010000
END:STANDARD
BEGIN:DAYLIGHT
TZOFFSETFROM:+0100
TZOFFSETTO:+0200
TZNAME:CEST
DTSTART:20240331T010000
END:DAYLIGHT
BEGIN:STANDARD
TZOFFSETFROM:+0200
TZOFFSETTO:+0100
TZNAME:CET
DTSTART:20241027T010000
END:STANDARD
BEGIN:DAYLIGHT
TZOFFSETFROM:+0100
TZOFFSETTO:+0200
TZNAME:CEST
DTSTART:20250330T010000
END:DAYLIGHT
BEGIN:STANDARD
TZOFFSETFROM:+0200
TZOFFSETTO:+0100
TZNAME:CET
DTSTART:20251026T010000
END:STANDARD
END:VTIMEZONE
BEGIN:VEVENT
DTSTART;VALUE=DATE:20240601
DTEND;VALUE=DATE:20240603
DTSTAMP:20260426T000325
CREATED:20240205T103451Z
LAST-MODIFIED:20240514T095444Z
UID:188306-1717200000-1717372799@etaples-sur-mer.fr
SUMMARY:FESTIVAL DES ARTS AFRICAINS
DESCRIPTION:par l’association « Manifest’action » \nSamedi 1er juin 2024 – Salle de la Corderie\, Bd Bigot-Descelers \nL’association « Manifest’action » en partenariat avec la ville d’Étaples-sur-mer vous propose le festival des arts africain le samedi 1er juin à la salle de la Corderie. \nDurant cette rencontre vous aurez l’occasion de vous initier aux percussions et aux instruments traditionnels d’Afrique de l’Ouest  lors des stages animés par Madou Konate  de 11h à 12h30. Une occasion unique d’apprendre et de vibrer au rythme de la Guinée\, en compagnie de passionnés de percussion de la région. \nD’autres stages dédiés à l’apprentissage et la découverte de la danse africaine seront également organisé de 13h30 à 15h par Wens Bazeno. Une opportunité exceptionnelle d’explorer les mouvements et les rythmes envoûtants de cette forme d’expression artistique fascinante. \nStage de danses et de percussions 20€/pers \n\nL’association vous propose également plusieurs programme au cours de la soirée : \n20h – restitutions des groupes encadrés par les membres de l’association \n21h – Bal Afro animé par le groupe Seko de Côte d’Ivoire \nL’entrée est libre et ouverte à tous ! \n\nRepas réunionnais par « Le Paille-en-Queue Kréol » \n10€ le plat (sur réservation avant le 15 mai) – 06 14 55 08 02 \nRenseignements et inscriptions : Sébastien Prudhomme\, Président – 06 74 00 87 84 \n 
URL:https://etaples-sur-mer.fr/evenement/festival-des-arts-africains-3/
LOCATION:Salle de la Corderie
CATEGORIES:Animations,Art,musique
ATTACH;FMTTYPE=image/jpeg:https://etaples-sur-mer.fr/wp-content/uploads/2024/02/festival_arts_africains-2024-web-scaled.jpg
END:VEVENT
BEGIN:VEVENT
DTSTART;TZID=Europe/Paris:20240610T080000
DTEND;TZID=Europe/Paris:20240610T170000
DTSTAMP:20260426T000325
CREATED:20240205T105824Z
LAST-MODIFIED:20240205T105824Z
UID:188319-1718006400-1718038800@etaples-sur-mer.fr
SUMMARY:« LE SCRAPBOOKING FACILE »
DESCRIPTION:Initiation aux techniques de scrapbooking par Martine Lardé \npar l’association « Passions Culture » \nlundi 10 juin 2024 de 14h30 à 17h00 – Salle de l’Abbé Delattre \ntarif : 5 €/séance – 3 séances gratuites pour chaque adhérent \nRenseignements : Philippe Floure 06 61 15 48 11
URL:https://etaples-sur-mer.fr/evenement/le-scrapbooking-facile-12/
LOCATION:Salle Abbé Delattre\, Boulevard de l'impératrice\, etaples\, 62630\, France
CATEGORIES:Animations,Art,Associations
ATTACH;FMTTYPE=image/jpeg:https://etaples-sur-mer.fr/wp-content/uploads/2024/02/Scrapbooking.jpg
END:VEVENT
BEGIN:VEVENT
DTSTART;VALUE=DATE:20240615
DTEND;VALUE=DATE:20240617
DTSTAMP:20260426T000325
CREATED:20240205T105635Z
LAST-MODIFIED:20240606T080048Z
UID:188317-1718409600-1718582399@etaples-sur-mer.fr
SUMMARY:EXPOSITION DE L’ATELIER SCRAPBOOKING FACILE par Martine Lardé
DESCRIPTION:par l’association « Passions Culture » \nsamedi 15 et dimanche 16 juin 2024 Salle de l’Abbé Delattre \nGratuit (sur réservation) \nRenseignements : Philippe Floure 06 61 15 48 11 \n\n		\n		\n			\n				\n			\n			\n		\n\n 
URL:https://etaples-sur-mer.fr/evenement/exposition-de-latelier-scrapbooking-facile-par-martine-larde/
LOCATION:Salle Abbé Delattre\, Boulevard de l'impératrice\, etaples\, 62630\, France
CATEGORIES:Art,Associations,Exposition
ATTACH;FMTTYPE=image/jpeg:https://etaples-sur-mer.fr/wp-content/uploads/2024/02/447306421_482076584194806_1872711140107890855_n.jpg
END:VEVENT
BEGIN:VEVENT
DTSTART;TZID=Europe/Paris:20240615T100000
DTEND;TZID=Europe/Paris:20240616T170000
DTSTAMP:20260426T000325
CREATED:20240603T122909Z
LAST-MODIFIED:20240603T122909Z
UID:198155-1718445600-1718557200@etaples-sur-mer.fr
SUMMARY:EXPOSITION DÉCOUVERTE DU SCRAPBOOKING
DESCRIPTION:avec Martine Lardé et son atelier15 et 16 juin 2024salle de l’Abbé Delattre\, boulevard de l’Impératrice – ETAPLES-SUR-MERSamedi 15 : 10h-12h et de 15h -18hvernissage à 11h30Dimanche 16 : 10h-12h et de 15h-17hinfos et inscription : 06 61 15 48 11Découvrez aussi : l’univers et les secrets des Mangas avec Pascale SenseyAtelier à 15h (sur inscription)La forge du Geek avec GermainAtelier de fabrication de jeux plateaux à 16 heuressur inscription (5€)ENTRÉE LIBREP.A.F. (participation volontaire aux frais)
URL:https://etaples-sur-mer.fr/evenement/exposition-decouverte-du-scrapbooking/
LOCATION:Salle Abbé Delattre\, Boulevard de l'impératrice\, etaples\, 62630\, France
CATEGORIES:Art,Associations,Culture,Exposition
ATTACH;FMTTYPE=image/jpeg:https://etaples-sur-mer.fr/wp-content/uploads/2024/06/Expo-Scrapbooking-Mai-2024-affiche-imprimeurVD-2.jpg
END:VEVENT
BEGIN:VEVENT
DTSTART;TZID=Europe/Paris:20240619T180000
DTEND;TZID=Europe/Paris:20240619T190000
DTSTAMP:20260426T000325
CREATED:20240619T080441Z
LAST-MODIFIED:20240619T080441Z
UID:199340-1718820000-1718823600@etaples-sur-mer.fr
SUMMARY:ATELIER REPAIR CAFÉ
DESCRIPTION:Par l’Association « Trecustel » \nMardi 3 septembre de 18h à 19h – 0 \nSi vous vous sentez une âme de bricoleur\, si vous avez le sens du système D…  Saisissez votre tournevis\, votre huile de coude et rendez-vous les 1ers et 3èmes mardis du mois à partir de 18 h. \nInfos : M. Sénéchal – 06 07 06 31 76
URL:https://etaples-sur-mer.fr/evenement/atelier-repair-cafe-7/
LOCATION:Salle Abbé Delattre\, Boulevard de l'impératrice\, etaples\, 62630\, France
CATEGORIES:Art,Associations
ATTACH;FMTTYPE=image/jpeg:https://etaples-sur-mer.fr/wp-content/uploads/2023/12/atelier-repair-cafe.jpg
END:VEVENT
BEGIN:VEVENT
DTSTART;TZID=Europe/Paris:20240624T140000
DTEND;TZID=Europe/Paris:20240624T163000
DTSTAMP:20260426T000325
CREATED:20240202T085556Z
LAST-MODIFIED:20240202T090007Z
UID:188220-1719237600-1719246600@etaples-sur-mer.fr
SUMMARY:« LE SCRAPBOOKING FACILE »
DESCRIPTION:Initiation aux techniques de scrapbooking par Martine Lardé \npar l’association « Passions Culture » \nlundi 24 juin de 14h à 16h30 – Salle de l’Abbé Delattre \ntarif : 5 €/séance – 3 séances gratuite pour chaque adhérent \nRenseignements : Philippe Floure 06 61 15 48 11
URL:https://etaples-sur-mer.fr/evenement/le-scrapbooking-facile-9/
LOCATION:Salle Abbé Delattre\, Boulevard de l'impératrice\, etaples\, 62630\, France
CATEGORIES:Animations,Art,Associations
ATTACH;FMTTYPE=image/jpeg:https://etaples-sur-mer.fr/wp-content/uploads/2018/01/Scrapbooking.jpg
END:VEVENT
BEGIN:VEVENT
DTSTART;TZID=Europe/Paris:20240629T100000
DTEND;TZID=Europe/Paris:20240731T170000
DTSTAMP:20260426T000325
CREATED:20240618T120258Z
LAST-MODIFIED:20240618T120258Z
UID:199197-1719655200-1722445200@etaples-sur-mer.fr
SUMMARY:EXPO : REGARDS MARITIMES
DESCRIPTION:du 29 JUIN au 31 JUILLETMÉDIATHÈQUE M.M. GAUFFENY\nExposition photographique réalisée par les élèves des classes de première Commerce et Gestion des Entreprises Maritimes et Electro-Mécanicien de Marine du lycée maritime Boulogne-sur-mer/Le Portel.\n\nRENSEIGNEMENTS :\nMÉDIATHÈQUE MARIE-MADELEINE GAUFFENYrue de Camiers / 62630 Étaples-sur-merTél : 03 21 94 29 31Facebook : Les-Bons-ZEnfants-dEtaplesENTREE GRATUITE \nVoir moins
URL:https://etaples-sur-mer.fr/evenement/expo-regards-maritimes/
LOCATION:Médiathèque Marie-Madeleine Gauffeny
CATEGORIES:Art,Culture,Exposition
ATTACH;FMTTYPE=image/jpeg:https://etaples-sur-mer.fr/wp-content/uploads/2024/06/affiche-ge╠une╠urique-Alain-copie-rvb-scaled.jpg
END:VEVENT
END:VCALENDAR