BEGIN:VCALENDAR
VERSION:2.0
PRODID:-//Ville d&#039;Etaples sur mer - ECPv6.15.13.1//NONSGML v1.0//EN
CALSCALE:GREGORIAN
METHOD:PUBLISH
X-WR-CALNAME:Ville d&#039;Etaples sur mer
X-ORIGINAL-URL:https://etaples-sur-mer.fr
X-WR-CALDESC:Évènements pour Ville d&#039;Etaples sur mer
REFRESH-INTERVAL;VALUE=DURATION:PT1H
X-Robots-Tag:noindex
X-PUBLISHED-TTL:PT1H
BEGIN:VTIMEZONE
TZID:Europe/Paris
BEGIN:DAYLIGHT
TZOFFSETFROM:+0100
TZOFFSETTO:+0200
TZNAME:CEST
DTSTART:20250330T010000
END:DAYLIGHT
BEGIN:STANDARD
TZOFFSETFROM:+0200
TZOFFSETTO:+0100
TZNAME:CET
DTSTART:20251026T010000
END:STANDARD
BEGIN:DAYLIGHT
TZOFFSETFROM:+0100
TZOFFSETTO:+0200
TZNAME:CEST
DTSTART:20260329T010000
END:DAYLIGHT
BEGIN:STANDARD
TZOFFSETFROM:+0200
TZOFFSETTO:+0100
TZNAME:CET
DTSTART:20261025T010000
END:STANDARD
BEGIN:DAYLIGHT
TZOFFSETFROM:+0100
TZOFFSETTO:+0200
TZNAME:CEST
DTSTART:20270328T010000
END:DAYLIGHT
BEGIN:STANDARD
TZOFFSETFROM:+0200
TZOFFSETTO:+0100
TZNAME:CET
DTSTART:20271031T010000
END:STANDARD
END:VTIMEZONE
BEGIN:VEVENT
DTSTART;VALUE=DATE:20260411
DTEND;VALUE=DATE:20261101
DTSTAMP:20260425T013239
CREATED:20260407T143108Z
LAST-MODIFIED:20260407T143108Z
UID:242954-1775865600-1793491199@etaples-sur-mer.fr
SUMMARY:EXPOSITION LA COLONIE DES PEINTRES D’ÉTAPLES EN BAIE DE CANCHE
DESCRIPTION:À partir du samedi 4 avril\, l’association Baie de Canche présente une exposition en\nplein air sur chevalets\, consacrée à la colonie des peintres d’Étaples. Installée sur les\ncommunes d’Étaples-sur-Mer\, du Touquet-Paris-Plage et de Camiers – Sainte-Cécile\,\nelle offre un regard inédit sur la Baie et son histoire\, à travers celui des artistes qui\nl’ont immortalisée. \nUne colonie d’artistes séduits par les richesses de la baie.\nÀ la fin du XIXe siècle\, de nombreux artistes venus de toute l’Europe découvrent la Baie de\nCanche\, souvent au détour d’un passage par Paris\, alors « Capitale des Arts »\, où sont donnés\nles cours privés et les classes des académies. Des cercles d’amitié se créent\, les bonnes\nadresses se transmettent\, et la côte devient une source d’inspiration.\nÀ Étaples-sur-mer\, les peintres trouvent des ateliers\, des modèles et une atmosphère propice\nà la création. Ils se retrouvent chez loos\, croquent la vie pittoresque de la cité\, entre marchés\net activités liées à la flottille de pêche.\nÀ Camiers et à Trépied\, ils recherchent davantage de calme\, s’inspirent des paysages\nchampêtres\, du lac et des dunes\, et acquièrent des maisons avec de grands jardins.\nAu Touquet-Paris-Plage\, ils profitent d’un cadre balnéaire entre mer et forêt\, fréquentent les\nsalons et rencontrent une clientèle aisée\, tout en appréciant la proximité de la baie.\nSans constituer une école au sens strict – les styles sont propres à chacun\, et les influences\nvariées – cette colonie rassemble des figures marquantes\, internationales\, telles qu’Eugène\nChigot\, Henri le Sidaner\, O’Tanner\, Eugène Boudin\, le couple Duhem\, Frits Thaulow. De\nnombreuses femmes artistes\, bien que moins connues\, y ont également joué un rôle essentiel.\nTous partagent une même fascination pour la lumière si particulière de la baie\, qu’ils\ntraduisent à travers des marines\, nocturnes\, scènes de genre et représentations du quotidien\nmodeste des hameaux environnants. \n« Dans une lumière fine\, argentée\, la baie d’Étaples offre le pittoresque de son petit port de\npêche que voisinent les sables blonds et la forêt de pins du Touquet » Henri Le Sidaner \nUne exposition répartie sur trois communes\nL’exposition\, visible jusqu’au mois d’octobre\, se déploie sur 54 chevalets répartis les trois\ncommunes :\nAu Touquet-Paris-Plage :\n• Square Paul François Rivet\n• Boulevard de la Canche\nVisites guidées « La Nature au Touquet\, une source d’inspiration pour les peintres » :\nDates : 13 avril à 10h00\, 15 mai à 10h00\, 17 juillet à 14h30\, 7 août à 14h30\, 11 septembre à 14h30 et\n23 octobre à 14h30\nTarifs : Adultes 9€ | Enfants (de 6 à 17 ans) 6€ | Familles (2 adultes/ 2 enfants) 24 € | Tarif réduit 7€\nRéservation : Office de tourisme du Touquet-Paris-Plage : 03.21.06.72.00\nÀ Étaples-sur-Mer :\n• Parc du Clos Saint-Victor\n• Avenue des Travailleurs de la Mer / rue du Moulin\n• Place Jeanne d’Arc\nVisites guidées « Les peintres de la colonie d’Étaples-sur-Mer » :\nDates : 15 avril à 14h30\, 8 juillet à 10h00\, 1er août à 10h00\, et 24 octobre à 14h30.\nTarifs : Adultes 5€ | Enfants 4€\nDurée : 1h30 | Sur réservation : 2 personnes mini. et 30 personnes max.\nRéservation : Office municipal de tourisme d’Étaples-sur-mer 03.21.09.56.94\nÀ Camiers – Sainte Cécile :\n• Verger de Notre-Dame-de-la-Mer\, rue de l’Église
URL:https://etaples-sur-mer.fr/evenement/exposition-la-colonie-des-peintres-detaples-en-baie-de-canche/
CATEGORIES:Art,Associations
ATTACH;FMTTYPE=image/jpeg:https://etaples-sur-mer.fr/wp-content/uploads/2026/04/Expo-chavalets-LES-PEINTRES-DE-LA-COLONIE-DETAPLES-EN-BAIE-DE-CANCHE-1.jpg
END:VEVENT
BEGIN:VEVENT
DTSTART;VALUE=DATE:20260418
DTEND;VALUE=DATE:20260427
DTSTAMP:20260425T013239
CREATED:20260123T083603Z
LAST-MODIFIED:20260123T083708Z
UID:239410-1776470400-1777247999@etaples-sur-mer.fr
SUMMARY:35ème édition du Festival de l’Oiseau et de la Nature
DESCRIPTION:Du samedi 18 au dimanche 26 avril  \nL’association Baie de Canche est partenaire de ce festival pour la troisième année consécutive. Les services nature d’Etaples et du Touquet organisent des visites en Baie de Canche. \nInfos : wwwabcanche.fr
URL:https://etaples-sur-mer.fr/evenement/35eme-edition-du-festival-de-loiseau-et-de-la-nature/
LOCATION:Maison de la Faune  et de la Flore
CATEGORIES:Animations,balade,Nature
ATTACH;FMTTYPE=image/jpeg:https://etaples-sur-mer.fr/wp-content/uploads/2026/01/FO-2026-A4-horizontal-2048x1467-1.jpg
ORGANIZER;CN="Service nature de la ville d'Etaples sur mer":MAILTO:nature.etaples@gmail.com
END:VEVENT
BEGIN:VEVENT
DTSTART;VALUE=DATE:20260425
DTEND;VALUE=DATE:20260426
DTSTAMP:20260425T013239
CREATED:20260126T095050Z
LAST-MODIFIED:20260126T105804Z
UID:239692-1777075200-1777161599@etaples-sur-mer.fr
SUMMARY:« Tir du Roy\, du Roitelet\, du Dauphin »
DESCRIPTION:Par l’association « La Flèche Etaploise » \nSamedi 25 avril – toute la journée – salle du Tir à l’Arc – Complexe sportif Jean Bigot \nJeux d’arc\, l’abat de l’oiseau : celui sui abat l’oiseau dans le temps imparti\, devient pour l’année le Roy\, le Roitelet\, le Dauphin… \nInfos : H.-J. Caron – 06 47 58 23 73
URL:https://etaples-sur-mer.fr/evenement/tir-du-roy-du-roitelet-du-dauphin/
LOCATION:salle de tir a l’arc\, 62630\, France
CATEGORIES:Animations,Associations,Sport
ATTACH;FMTTYPE=image/jpeg:https://etaples-sur-mer.fr/wp-content/uploads/2026/01/tir-a-larc-scaled.jpg
END:VEVENT
BEGIN:VEVENT
DTSTART;TZID=Europe/Paris:20260425T090000
DTEND;TZID=Europe/Paris:20260425T120000
DTSTAMP:20260425T013239
CREATED:20260126T094534Z
LAST-MODIFIED:20260306T125131Z
UID:239686-1777107600-1777118400@etaples-sur-mer.fr
SUMMARY:Les phoques de la Baie de Canche
DESCRIPTION:Par le service nature \nSamedi 25 avril à 9h– Rendez-vous au Clos Saint-Victor \nA la marée descendante\, observez les phoques rejoindre les reposoirs et apprenez-en davantage sur leur mode de vie et les bons gestes à adopter pour les observer sans les déranger. \nTarif : 5€ / personne \nDurée 3h \nInscription obligatoire sur le site du festival de l’oiseau et de la nature https://www.festival-oiseau-nature.com/ \nInfos : Service Nature / 03 21 84 13 93 ou 06 66 25 03 72
URL:https://etaples-sur-mer.fr/evenement/les-phoques-de-la-baie-de-canche-9/
LOCATION:Clos St Victor
CATEGORIES:Associations,balade,Nature
ATTACH;FMTTYPE=image/jpeg:https://etaples-sur-mer.fr/wp-content/uploads/2021/12/les-phoques-baie-de-canche-1.jpg
END:VEVENT
BEGIN:VEVENT
DTSTART;TZID=Europe/Paris:20260425T100000
DTEND;TZID=Europe/Paris:20260425T113000
DTSTAMP:20260425T013239
CREATED:20260126T094836Z
LAST-MODIFIED:20260126T094836Z
UID:239690-1777111200-1777116600@etaples-sur-mer.fr
SUMMARY:Atelier culinaire / Crabe farci
DESCRIPTION:Samedi 25 avril à 10 h – cuisine pédagogique de Maréis \nChef : Alexis Leprêtre \nCourts ouverts à tous\, dans la limite des places disponibles (10 personnes max.) Prévoir un tablier. Durée 1h30. Tarif 30 € / pers. \nInfos : Maréis.fr ou 03 21 09 04 00
URL:https://etaples-sur-mer.fr/evenement/atelier-culinaire-crabe-farci-2/
LOCATION:Cuisine pédagogique du Centre  » Maréis « 
CATEGORIES:Animations,cuisine
ATTACH;FMTTYPE=image/jpeg:https://etaples-sur-mer.fr/wp-content/uploads/2022/12/cours-de-cuisine-flo.jpg
END:VEVENT
BEGIN:VEVENT
DTSTART;TZID=Europe/Paris:20260425T143000
DTEND;TZID=Europe/Paris:20260425T160000
DTSTAMP:20260425T013239
CREATED:20260126T095454Z
LAST-MODIFIED:20260126T095454Z
UID:239695-1777127400-1777132800@etaples-sur-mer.fr
SUMMARY:Visite « Le Cimetière britannique d’Etaples-sur-mer »
DESCRIPTION:Par le service culture du musée Quentovic \nSamedi 25 avril à 14h30 – Départ de l’office de tourisme \nPrésentation illustrée du contexte (diaporama) et balade commentée du cimetière britannique. \nPlongez au cœur de l’histoire d’Etaples-sur-mer\, lorsque s’étendait\, entre 1915 et 1919\, le plus grand camp militaire et hospitalier britannique de la Première Guerre mondiale. Aujourd’hui\, seul subsiste le cimetière militaire du Commonwealth\, le plus vaste de France\, avec ses 10 729 sépultures qui surplombent la Canche. Une visite pour comprendre l’héritage de la Grande Guerre et rendre hommage à ceux qui ont marqué notre histoire. \nSur réservation : 2 personnes min. et 35 personnes max. \nAttention !! : prévoir son véhicule pour déplacement sur site (à 2 km) \nTarifs : 5 € / adulte\, 4 €/enfant. Durée : 1h30 \nInfos : Office municipal de tourisme – 03 21 09 56 94
URL:https://etaples-sur-mer.fr/evenement/visite-le-cimetiere-britannique-detaples-sur-mer-7/
LOCATION:Cimetière britannique
CATEGORIES:Animations,Associations,Culture,Historique
ATTACH;FMTTYPE=image/jpeg:https://etaples-sur-mer.fr/wp-content/uploads/2021/12/visite-cimetiere-britanique.jpg
END:VEVENT
BEGIN:VEVENT
DTSTART;TZID=Europe/Paris:20260425T203000
DTEND;TZID=Europe/Paris:20260425T230000
DTSTAMP:20260425T013239
CREATED:20260126T095759Z
LAST-MODIFIED:20260225T135807Z
UID:239699-1777149000-1777158000@etaples-sur-mer.fr
SUMMARY:Théâtre : « De quoi je me mêle »
DESCRIPTION:Par Mam’zelle spectacle et le service événementiel \nSamedi 25 avril à 20h30 – salle de la Corderie \nComment arriver à sauver son couple quand on se retrouve contraints de cohabiter avec une troisième personne qui ne jure que par le divorce ? \nLe duo d’auteurs du gros succès « Dîner de famille » vous livre sa dernière pépite ! \nMarion et Mathieu sont mariés depuis 10 ans. Pour sauver leur couple\, ils ont une idée originale : revivre dans les moindres détails le week-end où ils sont tombés amoureux. \nPour cela\, ils relouent la maison dans laquelle ils s’étaient rencontrés. Mais en arrivant\, ils découvrent qu’elle est déjà occupée par Pierre\, écrivain dépressif venu s’isoler pour écrire un livre sur les bienfaits du divorce. \nLe trio va devoir passer le week-end ensemble : la cohabitation promet d’être explosive ! \nAuteur : Joseph Gallet\, Pascal Rocher \nMise en scène : Philippe Petit. \nArtistes : Carine Samson\, et en alternance Pascal Putet\, Jean-Marc Keller\, Franck Savelli et Camille Damour. \nTarifs : 14€/adulte et 10€/enfant \nInfos : C. Samson – 06 72 80 70 85 \nhttps://www.billetreduc.com/spectacle/de-quoi-je-me-mele-399630 \n 
URL:https://etaples-sur-mer.fr/evenement/theatre-de-quoi-je-me-mele/
LOCATION:Salle de la Corderie
CATEGORIES:Animations,Culture,Spectacle,Theatre
ATTACH;FMTTYPE=image/jpeg:https://etaples-sur-mer.fr/wp-content/uploads/2026/01/Affiche-De-quoi-je-me-mele-copie-rvb-scaled.jpg
END:VEVENT
END:VCALENDAR