BEGIN:VCALENDAR
VERSION:2.0
PRODID:-//Ville d&#039;Etaples sur mer - ECPv6.15.13.1//NONSGML v1.0//EN
CALSCALE:GREGORIAN
METHOD:PUBLISH
X-WR-CALNAME:Ville d&#039;Etaples sur mer
X-ORIGINAL-URL:https://etaples-sur-mer.fr
X-WR-CALDESC:Évènements pour Ville d&#039;Etaples sur mer
REFRESH-INTERVAL;VALUE=DURATION:PT1H
X-Robots-Tag:noindex
X-PUBLISHED-TTL:PT1H
BEGIN:VTIMEZONE
TZID:Europe/Paris
BEGIN:DAYLIGHT
TZOFFSETFROM:+0100
TZOFFSETTO:+0200
TZNAME:CEST
DTSTART:20250330T010000
END:DAYLIGHT
BEGIN:STANDARD
TZOFFSETFROM:+0200
TZOFFSETTO:+0100
TZNAME:CET
DTSTART:20251026T010000
END:STANDARD
BEGIN:DAYLIGHT
TZOFFSETFROM:+0100
TZOFFSETTO:+0200
TZNAME:CEST
DTSTART:20260329T010000
END:DAYLIGHT
BEGIN:STANDARD
TZOFFSETFROM:+0200
TZOFFSETTO:+0100
TZNAME:CET
DTSTART:20261025T010000
END:STANDARD
BEGIN:DAYLIGHT
TZOFFSETFROM:+0100
TZOFFSETTO:+0200
TZNAME:CEST
DTSTART:20270328T010000
END:DAYLIGHT
BEGIN:STANDARD
TZOFFSETFROM:+0200
TZOFFSETTO:+0100
TZNAME:CET
DTSTART:20271031T010000
END:STANDARD
END:VTIMEZONE
BEGIN:VEVENT
DTSTART;VALUE=DATE:20260411
DTEND;VALUE=DATE:20261101
DTSTAMP:20260422T013240
CREATED:20260407T143108Z
LAST-MODIFIED:20260407T143108Z
UID:242954-1775865600-1793491199@etaples-sur-mer.fr
SUMMARY:EXPOSITION LA COLONIE DES PEINTRES D’ÉTAPLES EN BAIE DE CANCHE
DESCRIPTION:À partir du samedi 4 avril\, l’association Baie de Canche présente une exposition en\nplein air sur chevalets\, consacrée à la colonie des peintres d’Étaples. Installée sur les\ncommunes d’Étaples-sur-Mer\, du Touquet-Paris-Plage et de Camiers – Sainte-Cécile\,\nelle offre un regard inédit sur la Baie et son histoire\, à travers celui des artistes qui\nl’ont immortalisée. \nUne colonie d’artistes séduits par les richesses de la baie.\nÀ la fin du XIXe siècle\, de nombreux artistes venus de toute l’Europe découvrent la Baie de\nCanche\, souvent au détour d’un passage par Paris\, alors « Capitale des Arts »\, où sont donnés\nles cours privés et les classes des académies. Des cercles d’amitié se créent\, les bonnes\nadresses se transmettent\, et la côte devient une source d’inspiration.\nÀ Étaples-sur-mer\, les peintres trouvent des ateliers\, des modèles et une atmosphère propice\nà la création. Ils se retrouvent chez loos\, croquent la vie pittoresque de la cité\, entre marchés\net activités liées à la flottille de pêche.\nÀ Camiers et à Trépied\, ils recherchent davantage de calme\, s’inspirent des paysages\nchampêtres\, du lac et des dunes\, et acquièrent des maisons avec de grands jardins.\nAu Touquet-Paris-Plage\, ils profitent d’un cadre balnéaire entre mer et forêt\, fréquentent les\nsalons et rencontrent une clientèle aisée\, tout en appréciant la proximité de la baie.\nSans constituer une école au sens strict – les styles sont propres à chacun\, et les influences\nvariées – cette colonie rassemble des figures marquantes\, internationales\, telles qu’Eugène\nChigot\, Henri le Sidaner\, O’Tanner\, Eugène Boudin\, le couple Duhem\, Frits Thaulow. De\nnombreuses femmes artistes\, bien que moins connues\, y ont également joué un rôle essentiel.\nTous partagent une même fascination pour la lumière si particulière de la baie\, qu’ils\ntraduisent à travers des marines\, nocturnes\, scènes de genre et représentations du quotidien\nmodeste des hameaux environnants. \n« Dans une lumière fine\, argentée\, la baie d’Étaples offre le pittoresque de son petit port de\npêche que voisinent les sables blonds et la forêt de pins du Touquet » Henri Le Sidaner \nUne exposition répartie sur trois communes\nL’exposition\, visible jusqu’au mois d’octobre\, se déploie sur 54 chevalets répartis les trois\ncommunes :\nAu Touquet-Paris-Plage :\n• Square Paul François Rivet\n• Boulevard de la Canche\nVisites guidées « La Nature au Touquet\, une source d’inspiration pour les peintres » :\nDates : 13 avril à 10h00\, 15 mai à 10h00\, 17 juillet à 14h30\, 7 août à 14h30\, 11 septembre à 14h30 et\n23 octobre à 14h30\nTarifs : Adultes 9€ | Enfants (de 6 à 17 ans) 6€ | Familles (2 adultes/ 2 enfants) 24 € | Tarif réduit 7€\nRéservation : Office de tourisme du Touquet-Paris-Plage : 03.21.06.72.00\nÀ Étaples-sur-Mer :\n• Parc du Clos Saint-Victor\n• Avenue des Travailleurs de la Mer / rue du Moulin\n• Place Jeanne d’Arc\nVisites guidées « Les peintres de la colonie d’Étaples-sur-Mer » :\nDates : 15 avril à 14h30\, 8 juillet à 10h00\, 1er août à 10h00\, et 24 octobre à 14h30.\nTarifs : Adultes 5€ | Enfants 4€\nDurée : 1h30 | Sur réservation : 2 personnes mini. et 30 personnes max.\nRéservation : Office municipal de tourisme d’Étaples-sur-mer 03.21.09.56.94\nÀ Camiers – Sainte Cécile :\n• Verger de Notre-Dame-de-la-Mer\, rue de l’Église
URL:https://etaples-sur-mer.fr/evenement/exposition-la-colonie-des-peintres-detaples-en-baie-de-canche/
CATEGORIES:Art,Associations
ATTACH;FMTTYPE=image/jpeg:https://etaples-sur-mer.fr/wp-content/uploads/2026/04/Expo-chavalets-LES-PEINTRES-DE-LA-COLONIE-DETAPLES-EN-BAIE-DE-CANCHE-1.jpg
END:VEVENT
BEGIN:VEVENT
DTSTART;VALUE=DATE:20260418
DTEND;VALUE=DATE:20260427
DTSTAMP:20260422T013240
CREATED:20260123T083603Z
LAST-MODIFIED:20260123T083708Z
UID:239410-1776470400-1777247999@etaples-sur-mer.fr
SUMMARY:35ème édition du Festival de l’Oiseau et de la Nature
DESCRIPTION:Du samedi 18 au dimanche 26 avril  \nL’association Baie de Canche est partenaire de ce festival pour la troisième année consécutive. Les services nature d’Etaples et du Touquet organisent des visites en Baie de Canche. \nInfos : wwwabcanche.fr
URL:https://etaples-sur-mer.fr/evenement/35eme-edition-du-festival-de-loiseau-et-de-la-nature/
LOCATION:Maison de la Faune  et de la Flore
CATEGORIES:Animations,balade,Nature
ATTACH;FMTTYPE=image/jpeg:https://etaples-sur-mer.fr/wp-content/uploads/2026/01/FO-2026-A4-horizontal-2048x1467-1.jpg
ORGANIZER;CN="Service nature de la ville d'Etaples sur mer":MAILTO:nature.etaples@gmail.com
END:VEVENT
BEGIN:VEVENT
DTSTART;TZID=Europe/Paris:20260422T090000
DTEND;TZID=Europe/Paris:20260422T120000
DTSTAMP:20260422T013240
CREATED:20260126T090729Z
LAST-MODIFIED:20260306T124426Z
UID:239657-1776848400-1776859200@etaples-sur-mer.fr
SUMMARY:Les oiseaux chanteurs
DESCRIPTION:Par le service nature \nMercredi 22 avril à 9h  – Rendez-vous au Clos Saint-Victor \nLe printemps est une période propice pour écouter les vocalises des différentes espèces d’oiseaux présentes sur les espaces naturels de la Baie de Canche.\nC’est un vrai radio-crochet qui se déroule dans les buissons des dunes\, les roselières et les boisements.\nAccompagnés par un ornithologue\, vous apprendrez à reconnaître les chants de ces visiteurs\, qui pour certains d’entre eux se reproduiront sur place. \nTarif : 5€ / personne \nDurée 3h \nÀ prévoir : Chaussures et vêtements adaptés à la sortie et aux conditions climatiques \nInscription obligatoire sur le site du festival de l’oiseau et de la nature https://www.festival-oiseau-nature.com/ \nInfos : Service Nature / 03 21 84 13 93 ou 06 66 25 03 72
URL:https://etaples-sur-mer.fr/evenement/les-oiseaux-chanteurs/
LOCATION:Parc du Clos Saint Victor\, Boulevard Bigot Descelers\, Etaples\, 62630\, France
CATEGORIES:Animations,Nature
ATTACH;FMTTYPE=image/jpeg:https://etaples-sur-mer.fr/wp-content/uploads/2024/11/Decouverte-des-oiseaux-1.jpg
END:VEVENT
BEGIN:VEVENT
DTSTART;TZID=Europe/Paris:20260422T100000
DTEND;TZID=Europe/Paris:20260422T114500
DTSTAMP:20260422T013240
CREATED:20260126T091113Z
LAST-MODIFIED:20260305T090808Z
UID:239659-1776852000-1776858300@etaples-sur-mer.fr
SUMMARY:Atelier Scratch
DESCRIPTION:Par l’espace numérique \nMercredi 22 avril à 10h – Médiathèque \nInitiation aux bases du logiciel Sratch à partir de la création de petits jeux. \nGratuit. Sur réservation. À partir de 10 ans. Durée 1h45. \nInfos : 03 21 94 29 31
URL:https://etaples-sur-mer.fr/evenement/atelier-scratch-6/
LOCATION:Médiathèque\, 150 rue de Camiers\, etaples\, 62630\, France
CATEGORIES:Animations,médiathèque
ATTACH;FMTTYPE=image/jpeg:https://etaples-sur-mer.fr/wp-content/uploads/2025/07/atelier-minecraft-1.jpg
END:VEVENT
BEGIN:VEVENT
DTSTART;TZID=Europe/Paris:20260422T103000
DTEND;TZID=Europe/Paris:20260422T113000
DTSTAMP:20260422T013240
CREATED:20260126T091558Z
LAST-MODIFIED:20260126T100105Z
UID:239662-1776853800-1776857400@etaples-sur-mer.fr
SUMMARY:Les ateliers de Maréis : Je crée ma carte postale des vacances
DESCRIPTION:Mercredi 22 avril à 10h30 – Maréis \nAtelier pour enfants encadré par un médiateur de Maréis. La présence d’un parent est obligatoire pour les enfants jusque 7 ans. Spécial 3-5 ans. \nTarif : 7€/enfant\, gratuit/parent. Durée 1h. \nInfos :  Mareis.fr ou 03 21 09 04 00
URL:https://etaples-sur-mer.fr/evenement/les-ateliers-de-mareis-je-cree-ma-carte-postale-des-vacances/
LOCATION:Mareis\, La corderie\, Boulevard Bigot Descelers\, etaples\, 62630\, France
CATEGORIES:Animations,Jeunesse,Mareis
ATTACH;FMTTYPE=image/jpeg:https://etaples-sur-mer.fr/wp-content/uploads/2023/12/les-activites-pour-les-ptits-matelots-mareis-1-1.jpg
END:VEVENT
BEGIN:VEVENT
DTSTART;TZID=Europe/Paris:20260422T140000
DTEND;TZID=Europe/Paris:20260422T170000
DTSTAMP:20260422T013240
CREATED:20260126T092514Z
LAST-MODIFIED:20260323T152730Z
UID:239669-1776866400-1776877200@etaples-sur-mer.fr
SUMMARY:Structures gonflables
DESCRIPTION:Par l’école Jean Macé \nMercredi 22 avril – salle Laura Flessel – dans l’après-midi \nAprès-midi récréatif\, structures gonflables\, goûter et boissons en vente \nInfos : 03 21 94 67 16
URL:https://etaples-sur-mer.fr/evenement/structures-gonflables-2/
LOCATION:Salle Laura Flessel\, boulevard Lefèvre\, Etaples\, 62630\, France
CATEGORIES:Animations,Jeunesse
ATTACH;FMTTYPE=image/jpeg:https://etaples-sur-mer.fr/wp-content/uploads/2026/01/357911097-1669807380109958-5647364603309986312-n.jpeg
END:VEVENT
BEGIN:VEVENT
DTSTART;TZID=Europe/Paris:20260422T143000
DTEND;TZID=Europe/Paris:20260422T160000
DTSTAMP:20260422T013240
CREATED:20260126T092021Z
LAST-MODIFIED:20260126T092021Z
UID:239665-1776868200-1776873600@etaples-sur-mer.fr
SUMMARY:Visite « Histoire d’Etaples-sur-mer »
DESCRIPTION:Par le service culture de Quentovic \nMercredi 22 avril à 14h30 – Départ de l’office de tourisme \nPrésentation illustrée du contexte (diaporama) et balade commentée dans les rues de la ville. \nDécouvrez les secrets et le charme d’Etaples-sur-mer à travers une visite guidée qui vous plongera dans son histoire millénaire\, façonnée par sa situation unique entre terre et mer. \nLe guide vous mènera dans les rues de la ville pour découvrir l’architecture pittoresque de la cité des pêcheurs et ses sites clés : les bâtiments anciens (moulin\, hôtel de ville…)\, les lieux liés à la vie quotidienne (marché…)\, le patrimoine architectural liée à la pêche (halle à la criée\, calvaire…). \nSur réservation : 2 personnes min. et 35 personnes max. \nTarifs : 5 € / adulte\, 4 € / enfant. Durée : 1h30 \nInfos :  Office municipal de tourisme – 03 21 09 56 94
URL:https://etaples-sur-mer.fr/evenement/visite-histoire-detaples-sur-mer-6/
LOCATION:Office de Tourisme
CATEGORIES:Animations,balade,Culture,Historique,Tourisme
ATTACH;FMTTYPE=image/jpeg:https://etaples-sur-mer.fr/wp-content/uploads/2025/07/Histoire.jpg
END:VEVENT
BEGIN:VEVENT
DTSTART;TZID=Europe/Paris:20260422T153000
DTEND;TZID=Europe/Paris:20260422T170000
DTSTAMP:20260422T013240
CREATED:20260309T135546Z
LAST-MODIFIED:20260309T135546Z
UID:241184-1776871800-1776877200@etaples-sur-mer.fr
SUMMARY:INITIATION AU JEU DE DUPLICATE POUR LES 12-18 ANS
DESCRIPTION:par le Club de Scrabble Etaplois\nle Mercredi 22 avril 2026 à 15h30 à la salle de l’Abbé Delattre\nINFOS : 06 35 26 72 01
URL:https://etaples-sur-mer.fr/evenement/initiation-au-jeu-de-duplicate-pour-les-12-18-ans/
LOCATION:Salle Abbé Delattre\, Boulevard de l'impératrice\, etaples\, 62630\, France
CATEGORIES:Animations,Associations
ATTACH;FMTTYPE=image/jpeg:https://etaples-sur-mer.fr/wp-content/uploads/2026/03/affiche-jeune-22avril-scrabble-jeunes.jpg
END:VEVENT
END:VCALENDAR